BEGIN:VCALENDAR
VERSION:2.0
BEGIN:VEVENT
URL:http://www.signaturewines.com/wine-community/events/viewevent/517-world-of-pinot-noir-2016 
DTSTART:20160304T090000
DTEND:20160306T130000
SUMMARY:WORLD OF PINOT NOIR 2016
DESCRIPTION:<p><strong>BUY YOUR TICKETS HERE: </strong><span style="line-height: 1.3em;">http://www.eventbrite.com/e/world-of-pinot-noir-2016-tickets-17925787513?aff=es2</span></p>
<p> </p>
LOCATION:Bacara Resort & Spa  8301 Hollister Avenue  Goleta, CA 93117
END:VEVENT
END:VCALENDAR