BEGIN:VCALENDAR
VERSION:2.0
BEGIN:VEVENT
URL:http://www.signaturewines.com/wine-community/events/viewevent/519-2015-taste-of-the-warriors 
DTSTART:20151010T183000
DTEND:20151010T213000
SUMMARY: 2015 Taste of the Warriors 
DESCRIPTION:<p><strong>BUY YOUR TICKETS YOUR HERE: </strong><span style="line-height: 1.3em;">https://www.ticketreturn.com/prod2/BuyNew.asp?EventID=155421#.Vfio7WBRpn4</span></p>
<p><span style="color: #888888; font-family: 'Open Sans', HelveticaNeue, 'Helvetica Neue', Helvetica, Arial, sans-serif; line-height: 20px;">Enjoy food from local restaurants and taste wines poured by Santa Cruz Mountains Wineries, including: Alfaro Family Vineyards and Winery  Armitage Wines  Bargetto Winery Bartolo Wines Bottle Jack Wines Burrell School Vineyards and Winery  Byington Vineyard and Winery  Clos LaChance Winery  Dancing Creek Winery Equinox Wines And many more! </span></p>
LOCATION:Kaiser Permanente Arena, 140 Front St,  Santa Cruz, CA 95060 
END:VEVENT
END:VCALENDAR