BEGIN:VCALENDAR
VERSION:2.0
BEGIN:VEVENT
URL:http://www.signaturewines.com/wine-community/events/viewevent/522-taste-of-north-park-2015 
DTSTART:20151017T110000
DTEND:20151017T150000
SUMMARY:Taste of North Park 2015
DESCRIPTION:<p><strong>BUY YOUR TICKETS HERE:</strong> http://www.brownpapertickets.com/event/1888078</p>
<p><span style="color: #777777; font-family: Helvetica, Arial, sans-serif; line-height: normal;">In one afternoon, enjoy over 30 food tastes and 10 craft beer samples (21+ guests only!) from San Diego's best restaurants and bars. </span><br style="color: #777777; font-family: Helvetica, Arial, sans-serif; line-height: normal;" /><br style="color: #777777; font-family: Helvetica, Arial, sans-serif; line-height: normal;" /><span style="color: #777777; font-family: Helvetica, Arial, sans-serif; line-height: normal;">North Park is home to San Diego's best chefs, premiere craft beer and trendiest boutiques on top of a thriving local art culture. This self-guided walking tour will open your eyes to the constantly-evolving North Park community. </span><br style="color: #777777; font-family: Helvetica, Arial, sans-serif; line-height: normal;" /><br style="color: #777777; font-family: Helvetica, Arial, sans-serif; line-height: normal;" /><span style="color: #777777; font-family: Helvetica, Arial, sans-serif; line-height: normal;">If you haven't experienced the culinary magic of North Park, this is the best way to try it all! </span><br style="color: #777777; font-family: Helvetica, Arial, sans-serif; line-height: normal;" /><br style="color: #777777; font-family: Helvetica, Arial, sans-serif; line-height: normal;" /><span style="color: #777777; font-family: Helvetica, Arial, sans-serif; line-height: normal;">JOIN US FOR THE 7th ANNUAL TASTE OF NORTH PARK</span><br style="color: #777777; font-family: Helvetica, Arial, sans-serif; line-height: normal;" /><span style="color: #777777; font-family: Helvetica, Arial, sans-serif; line-height: normal;">Saturday, October 17 | 11am to 3pm</span><br style="color: #777777; font-family: Helvetica, Arial, sans-serif; line-height: normal;" /><br style="color: #777777; font-family: Helvetica, Arial, sans-serif; line-height: normal;" /><span style="color: #777777; font-family: Helvetica, Arial, sans-serif; line-height: normal;">2015 PARTICIPATING RESTAURANTS:</span><br style="color: #777777; font-family: Helvetica, Arial, sans-serif; line-height: normal;" /><span style="color: #777777; font-family: Helvetica, Arial, sans-serif; line-height: normal;">Tostadas - NEW!</span><br style="color: #777777; font-family: Helvetica, Arial, sans-serif; line-height: normal;" /><span style="color: #777777; font-family: Helvetica, Arial, sans-serif; line-height: normal;">Streetcar Merchants - NEW!</span><br style="color: #777777; font-family: Helvetica, Arial, sans-serif; line-height: normal;" /><span style="color: #777777; font-family: Helvetica, Arial, sans-serif; line-height: normal;">Panchitas - NEW!</span><br style="color: #777777; font-family: Helvetica, Arial, sans-serif; line-height: normal;" /><span style="color: #777777; font-family: Helvetica, Arial, sans-serif; line-height: normal;">Lucha Libre  NEW! </span><br style="color: #777777; font-family: Helvetica, Arial, sans-serif; line-height: normal;" /><span style="color: #777777; font-family: Helvetica, Arial, sans-serif; line-height: normal;">Sublime North Park - NEW!</span><br style="color: #777777; font-family: Helvetica, Arial, sans-serif; line-height: normal;" /><span style="color: #777777; font-family: Helvetica, Arial, sans-serif; line-height: normal;">Amorcito Corazon -  NEW!</span><br style="color: #777777; font-family: Helvetica, Arial, sans-serif; line-height: normal;" /><span style="color: #777777; font-family: Helvetica, Arial, sans-serif; line-height: normal;">The Smoking Goat</span><br style="color: #777777; font-family: Helvetica, Arial, sans-serif; line-height: normal;" /><span style="color: #777777; font-family: Helvetica, Arial, sans-serif; line-height: normal;">Wow Wow Waffle</span><br style="color: #777777; font-family: Helvetica, Arial, sans-serif; line-height: normal;" /><span style="color: #777777; font-family: Helvetica, Arial, sans-serif; line-height: normal;">Ritual Kitchen & Beer Garden</span><br style="color: #777777; font-family: Helvetica, Arial, sans-serif; line-height: normal;" /><span style="color: #777777; font-family: Helvetica, Arial, sans-serif; line-height: normal;">Cardamom Café & Bakery</span><br style="color: #777777; font-family: Helvetica, Arial, sans-serif; line-height: normal;" /><span style="color: #777777; font-family: Helvetica, Arial, sans-serif; line-height: normal;">Venissimo Cheese</span><br style="color: #777777; font-family: Helvetica, Arial, sans-serif; line-height: normal;" /><span style="color: #777777; font-family: Helvetica, Arial, sans-serif; line-height: normal;">Splash Wine Lounge & Bistro</span><br style="color: #777777; font-family: Helvetica, Arial, sans-serif; line-height: normal;" /><span style="color: #777777; font-family: Helvetica, Arial, sans-serif; line-height: normal;">Subterranean Coffee Boutique</span><br style="color: #777777; font-family: Helvetica, Arial, sans-serif; line-height: normal;" /><span style="color: #777777; font-family: Helvetica, Arial, sans-serif; line-height: normal;">Coin-Op Game Room</span><br style="color: #777777; font-family: Helvetica, Arial, sans-serif; line-height: normal;" /><span style="color: #777777; font-family: Helvetica, Arial, sans-serif; line-height: normal;">City Tacos</span><br style="color: #777777; font-family: Helvetica, Arial, sans-serif; line-height: normal;" /><span style="color: #777777; font-family: Helvetica, Arial, sans-serif; line-height: normal;">Urban Solace</span><br style="color: #777777; font-family: Helvetica, Arial, sans-serif; line-height: normal;" /><span style="color: #777777; font-family: Helvetica, Arial, sans-serif; line-height: normal;">Queen Bees</span><br style="color: #777777; font-family: Helvetica, Arial, sans-serif; line-height: normal;" /><span style="color: #777777; font-family: Helvetica, Arial, sans-serif; line-height: normal;">Claire de Lune Coffee Lounge</span><br style="color: #777777; font-family: Helvetica, Arial, sans-serif; line-height: normal;" /><span style="color: #777777; font-family: Helvetica, Arial, sans-serif; line-height: normal;">West Coast Tavern</span><br style="color: #777777; font-family: Helvetica, Arial, sans-serif; line-height: normal;" /><span style="color: #777777; font-family: Helvetica, Arial, sans-serif; line-height: normal;">Waypoint Public</span><br style="color: #777777; font-family: Helvetica, Arial, sans-serif; line-height: normal;" /><span style="color: #777777; font-family: Helvetica, Arial, sans-serif; line-height: normal;">URBN Coal Fired Pizza</span><br style="color: #777777; font-family: Helvetica, Arial, sans-serif; line-height: normal;" /><span style="color: #777777; font-family: Helvetica, Arial, sans-serif; line-height: normal;">True North Tavern</span><br style="color: #777777; font-family: Helvetica, Arial, sans-serif; line-height: normal;" /><span style="color: #777777; font-family: Helvetica, Arial, sans-serif; line-height: normal;">Yog-Art Frozen Yogurt</span><br style="color: #777777; font-family: Helvetica, Arial, sans-serif; line-height: normal;" /><span style="color: #777777; font-family: Helvetica, Arial, sans-serif; line-height: normal;">+ MANY MANY MORE</span><br style="color: #777777; font-family: Helvetica, Arial, sans-serif; line-height: normal;" /><br style="color: #777777; font-family: Helvetica, Arial, sans-serif; line-height: normal;" /><span style="color: #777777; font-family: Helvetica, Arial, sans-serif; line-height: normal;">HOP IN AN UBER!</span><br style="color: #777777; font-family: Helvetica, Arial, sans-serif; line-height: normal;" /><span style="color: #777777; font-family: Helvetica, Arial, sans-serif; line-height: normal;">We're teaming up with Uber so you can ride with ease to Taste of North Park!</span><br style="color: #777777; font-family: Helvetica, Arial, sans-serif; line-height: normal;" /><br style="color: #777777; font-family: Helvetica, Arial, sans-serif; line-height: normal;" /><span style="color: #777777; font-family: Helvetica, Arial, sans-serif; line-height: normal;">To get your first Uber ride free (up to $20), sign up at http://get.uber.com/go/TASTENP15 or download the app, and enter the promo code TASTENP15</span></p>
LOCATION:North Park, San Diego University + 30th Street San Diego, CA 92104
END:VEVENT
END:VCALENDAR