BEGIN:VCALENDAR
VERSION:2.0
BEGIN:VEVENT
URL:http://www.signaturewines.com/wine-community/events/viewevent/523-winemaker-dinner-frescobaldi 
DTSTART:20150922T193000
DTEND:20150922T220000
SUMMARY:WINEMAKER DINNER - FRESCOBALDI
DESCRIPTION:<p style="line-height: normal; margin: 0px 0px 12pt; padding: 0px 0px 8px; color: #666666; font-family: 'Helvetica Neue', Helvetica, Arial, sans-serif; font-size: 13px; letter-spacing: 0.5px; text-align: center;" align="center"><span style="font-size: large; font-family: 'times new roman', times;">Local Halibut Crudo, Green Tomato Gazpacho, </span></p>
<p style="line-height: normal; margin: 0px 0px 12pt; padding: 0px 0px 8px; color: #666666; font-family: 'Helvetica Neue', Helvetica, Arial, sans-serif; font-size: 13px; letter-spacing: 0.5px; text-align: center;" align="center"><span style="font-size: large; font-family: 'times new roman', times;">Armenian Cucumbers, Nasturtiums</span></p>
<p style="line-height: normal; margin: 0px 0px 12pt; padding: 0px 0px 8px; color: #666666; font-family: 'Helvetica Neue', Helvetica, Arial, sans-serif; font-size: 13px; letter-spacing: 0.5px; text-align: center;" align="center"><span style="font-size: large;"><span style="font-family: 'times new roman', times;"> </span><em style="font-family: 'times new roman', times; line-height: 1.6em;"><span style="line-height: 1.6em;">2013 Frescobaldi Ammiraglia Vermentino, Toscana IGT</span></em></span></p>
<p style="line-height: normal; margin: 0px 0px 12pt; padding: 0px 0px 8px; color: #666666; font-family: 'Helvetica Neue', Helvetica, Arial, sans-serif; font-size: 13px; letter-spacing: 0.5px; text-align: center;" align="center"><span style="font-size: 16pt; font-family: 'times new roman', times;">* </span></p>
<p style="line-height: normal; margin: 0px 0px 12pt; padding: 0px 0px 8px; color: #666666; font-family: 'Helvetica Neue', Helvetica, Arial, sans-serif; font-size: 13px; letter-spacing: 0.5px; text-align: center;" align="center"><span style="font-size: 16pt; font-family: 'times new roman', times;">       <span style="font-size: large;">Bellwether Sheeps Milk Ricotta, Slow Roasted Early Girls,          </span></span></p>
<p style="line-height: normal; margin: 0px 0px 12pt; padding: 0px 0px 8px; color: #666666; font-family: 'Helvetica Neue', Helvetica, Arial, sans-serif; font-size: 13px; letter-spacing: 0.5px; text-align: center;" align="center"><span style="font-size: large; font-family: 'times new roman', times;">Yellow Pineapple Crisps, Cherry Tomato Vinaigrette, </span></p>
<p style="line-height: normal; margin: 0px 0px 12pt; padding: 0px 0px 8px; color: #666666; font-family: 'Helvetica Neue', Helvetica, Arial, sans-serif; font-size: 13px; letter-spacing: 0.5px; text-align: center;" align="center"><span style="font-size: large; font-family: 'times new roman', times;">Coriander Seed Crackers</span></p>
<p style="line-height: normal; margin: 0px 0px 12pt; padding: 0px 0px 8px; color: #666666; font-family: 'Helvetica Neue', Helvetica, Arial, sans-serif; font-size: 13px; letter-spacing: 0.5px; text-align: center;" align="center"><span style="font-size: large;"><em style="font-family: 'times new roman', times; line-height: 1.6em;">2014 Frescobaldi Castello di Pomino Chardonnay, Pomino DOC</em></span></p>
<p style="line-height: normal; margin: 0px 0px 12pt; padding: 0px 0px 8px; color: #666666; font-family: 'Helvetica Neue', Helvetica, Arial, sans-serif; font-size: 13px; letter-spacing: 0.5px; text-align: center;" align="center"><span style="font-size: large; font-family: 'times new roman', times;">* </span></p>
<p style="line-height: normal; margin: 0px 0px 12pt; padding: 0px 0px 8px; color: #666666; font-family: 'Helvetica Neue', Helvetica, Arial, sans-serif; font-size: 13px; letter-spacing: 0.5px; text-align: center;" align="center"><span style="font-family: 'times new roman', times; font-size: large;">Watson Farm Lamb Shoulder, Eggplant Caponata, </span></p>
<p style="line-height: normal; margin: 0px 0px 12pt; padding: 0px 0px 8px; color: #666666; font-family: 'Helvetica Neue', Helvetica, Arial, sans-serif; font-size: 13px; letter-spacing: 0.5px; text-align: center;" align="center"><span style="font-family: 'times new roman', times; font-size: large;">Warm Spices, <span style="line-height: 1.6em;">Haricot Vert, Taggiasche Olives, Moroccan Mint</span></span></p>
<p style="line-height: normal; margin: 0px 0px 12pt; padding: 0px 0px 8px; color: #666666; font-family: 'Helvetica Neue', Helvetica, Arial, sans-serif; font-size: 13px; letter-spacing: 0.5px; text-align: center;" align="center"><span style="font-size: medium;"><em style="font-family: 'times new roman', times; font-size: large; line-height: 1.6em;">2011 Frescobaldi Nipozzano, Chianti Ruffina Riserva</em></span></p>
<p style="line-height: normal; margin: 0px 0px 12pt; padding: 0px 0px 8px; color: #666666; font-family: 'Helvetica Neue', Helvetica, Arial, sans-serif; font-size: 13px; letter-spacing: 0.5px; text-align: center;" align="center"><span style="font-family: 'times new roman', times; font-size: large;"><em>2008 Frescobaldi Nipozzano, Chianti Rufina Riserva MAGNUM</em></span></p>
<p style="line-height: normal; margin: 0px 0px 12pt; padding: 0px 0px 8px; color: #666666; font-family: 'Helvetica Neue', Helvetica, Arial, sans-serif; font-size: 13px; letter-spacing: 0.5px; text-align: center;" align="center"><span style="font-family: 'times new roman', times; font-size: large;"><em>2012 Frescobaldi Tenuta di Castiglioni Super Tuscan</em></span></p>
<p style="line-height: normal; margin: 0px 0px 12pt; padding: 0px 0px 8px; color: #666666; font-family: 'Helvetica Neue', Helvetica, Arial, sans-serif; font-size: 13px; letter-spacing: 0.5px; text-align: center;" align="center"><span style="font-size: large; font-family: 'times new roman', times;">* </span></p>
<p style="line-height: normal; margin: 0px 0px 12pt; padding: 0px 0px 8px; color: #666666; font-family: 'Helvetica Neue', Helvetica, Arial, sans-serif; font-size: 13px; letter-spacing: 0.5px; text-align: center;" align="center"><span style="font-size: large; font-family: 'times new roman', times;">Fennel Flower Zeppoles, Eucalyptus Honey, Pistachios</span></p>
<p style="line-height: normal; margin: 0px 0px 12pt; padding: 0px 0px 8px; color: #666666; font-family: 'Helvetica Neue', Helvetica, Arial, sans-serif; font-size: 13px; letter-spacing: 0.5px; text-align: center;" align="center"><em style="font-family: 'times new roman', times; font-size: large; line-height: 1.6em;">2007 Frescobaldi Castello di Pomino Vin Santo DOC</em></p>
<p><em style="font-family: 'times new roman', times; font-size: large; line-height: 1.6em;"> </em></p>
LOCATION:Gioia Pizzeria  2240 Polk Street  San Francisco, CA 94109
END:VEVENT
END:VCALENDAR