BEGIN:VCALENDAR
VERSION:2.0
BEGIN:VEVENT
URL:http://www.signaturewines.com/wine-community/events/viewevent/524-9th-annual-caritas-creek-celebration-dinner 
DTSTART:20151017T180000
DTEND:20151017T230000
SUMMARY:9th Annual Caritas Creek Celebration Dinner
DESCRIPTION:<p><strong>BUY YOUR TICKETS HERE: </strong><span style="line-height: 1.3em;">http://www.eventbrite.com/e/9th-annual-caritas-creek-celebration-dinner-tickets-17239155779?aff=es2</span></p>
<p style="line-height: normal; margin: 0px; padding: 0px 0px 8px; color: #666666; font-family: 'Helvetica Neue', Helvetica, Arial, sans-serif; font-size: 13px; letter-spacing: 0.5px; text-align: center;"><span style="color: #000000; font-family: 'arial black', 'avant garde';"><span style="font-size: x-large; font-family: terminal, monaco;"><span style="font-size: large;"><span style="font-size: x-large;"><span style="font-weight: bold;"><span style="color: #993300;">9th</span> Annual</span></span></span></span></span></p>
<p style="line-height: normal; margin: 0px; padding: 0px 0px 8px; color: #666666; font-family: 'Helvetica Neue', Helvetica, Arial, sans-serif; font-size: 13px; letter-spacing: 0.5px; text-align: center;"><span style="color: #008000; font-family: 'arial black', 'avant garde';"><span style="font-weight: bold;"><span style="color: #993300; font-family: terminal, monaco; font-size: xx-large;">Celebration Dinner</span></span></span></p>
<p style="line-height: normal; margin: 0px; padding: 0px 0px 8px; color: #666666; font-family: 'Helvetica Neue', Helvetica, Arial, sans-serif; font-size: 13px; letter-spacing: 0.5px; text-align: center;"><span style="font-weight: bold;"><span style="font-family: 'times new roman', times; font-size: small;"><em><span style="color: #424242;"><span style="color: #000000;"> </span></span></em></span></span></p>
<p style="line-height: normal; margin: 0px; padding: 0px 0px 8px; color: #666666; font-family: 'Helvetica Neue', Helvetica, Arial, sans-serif; font-size: 13px; letter-spacing: 0.5px; text-align: center;"><span style="font-weight: bold;"><span style="font-family: 'times new roman', times; font-size: small;"><em><span style="color: #424242;"><span style="color: #000000;">Delicious hors d'oeuvres served.  Buffet Dinner with wine.  </span></span></em></span><span style="font-family: 'times new roman', times; font-size: small;"><em><span style="color: #424242;"><span style="color: #000000;"><span style="color: #424242;"><span style="color: #000000;"><em>No host bar.  Assorted dessert bar.</em></span></span></span></span><br /></em></span></span></p>
<p style="line-height: normal; margin: 0px; padding: 0px 0px 8px; color: #666666; font-family: 'Helvetica Neue', Helvetica, Arial, sans-serif; font-size: 13px; letter-spacing: 0.5px; text-align: center;"><span style="font-family: 'times new roman', times; font-size: small;"><em>Town & Country Salad with Strawberries, Brie, & Toasted Almonds</em></span><br /><span style="font-family: 'times new roman', times; font-size: small;"><em>Vegetarian Entree : Penne Pasta with Sundried Tomatoes & Goat Cheese</em></span><br /><span style="font-family: 'times new roman', times; font-size: small;"><em>Meat Entree : Chicken Piccata Grilled with White Wine Lemon Sauce, Mushrooms & Capers</em></span></p>
LOCATION:Elks Lodge  2255 Santa Clara Ave  Alameda, CA 94501
END:VEVENT
END:VCALENDAR