BEGIN:VCALENDAR
VERSION:2.0
BEGIN:VEVENT
URL:http://www.signaturewines.com/wine-community/events/viewevent/525-jacks-restaurant-wine-dinner 
DTSTART:20151002T170000
DTEND:20151003T200000
SUMMARY:Jacks Restaurant Wine Dinner
DESCRIPTION:<p><strong>BUY YOUR TICKETS HERE: </strong><span style="line-height: 1.3em;">http://www.eventbrite.com/e/jacks-restaurant-wine-dinner-tickets-18556578225?aff=es2</span></p>
<p style="line-height: normal; margin: 0px; padding: 0px 0px 8px; color: #9c6f9c; font-family: 'Helvetica Neue', Helvetica, Arial, sans-serif; font-size: 13px; letter-spacing: 0.5px;">Each quarter, Executive Chef Jason Giles and representatvies from a featured wineries collaborate to perfectly pair hand selected varietals alongside five delightful courses during Jacks Restaurant Wine Dinner Series.</p>
<p style="line-height: normal; margin: 0px; padding: 0px 0px 8px; color: #9c6f9c; font-family: 'Helvetica Neue', Helvetica, Arial, sans-serif; font-size: 13px; letter-spacing: 0.5px;">Join us on Friday, October 2nd for a meal careful crafted and paired with five varietals from Miner Family Wines in Napa Valley, CA. </p>
<p style="line-height: normal; margin: 0px; padding: 0px 0px 8px; color: #9c6f9c; font-family: 'Helvetica Neue', Helvetica, Arial, sans-serif; font-size: 13px; letter-spacing: 0.5px; text-align: center;" align="center"><span style="text-decoration: underline;"><span style="font-size: 12pt; font-family: Garamond, serif;">First Course</span></span></p>
<p style="line-height: normal; margin: 0px; padding: 0px 0px 8px; color: #9c6f9c; font-family: 'Helvetica Neue', Helvetica, Arial, sans-serif; font-size: 13px; letter-spacing: 0.5px; text-align: center;" align="center"><span style="font-size: 14pt; font-family: 'Trajan Pro', serif;">Diver Scallop Crudo</span></p>
<p style="line-height: normal; margin: 0px; padding: 0px 0px 8px; color: #9c6f9c; font-family: 'Helvetica Neue', Helvetica, Arial, sans-serif; font-size: 13px; letter-spacing: 0.5px; text-align: center;" align="center"><em><span style="font-family: Garamond, serif;">Applewood-Smoked Diver Scallop Over an Heirloom Tomato Relish </span></em></p>
<p style="line-height: normal; margin: 0px; padding: 0px 0px 8px; color: #9c6f9c; font-family: 'Helvetica Neue', Helvetica, Arial, sans-serif; font-size: 13px; letter-spacing: 0.5px; text-align: center;" align="center"><em><span style="font-family: Garamond, serif;">with a Whipped Chive Crème Fraîche</span></em></p>
<p style="line-height: normal; margin: 0px; padding: 0px 0px 8px; color: #9c6f9c; font-family: 'Helvetica Neue', Helvetica, Arial, sans-serif; font-size: 13px; letter-spacing: 0.5px; text-align: center;" align="center"><span style="font-family: 'Lucida Calligraphy'; color: #996600;">Miner,Viognier, California, 2013</span></p>
<p style="line-height: normal; margin: 0px; padding: 0px 0px 8px; color: #9c6f9c; font-family: 'Helvetica Neue', Helvetica, Arial, sans-serif; font-size: 13px; letter-spacing: 0.5px; text-align: center;" align="center"><span style="text-decoration: underline;"><span style="font-size: 12pt; font-family: Garamond, serif;">Second Course</span></span></p>
<p style="line-height: normal; margin: 0px; padding: 0px 0px 8px; color: #9c6f9c; font-family: 'Helvetica Neue', Helvetica, Arial, sans-serif; font-size: 13px; letter-spacing: 0.5px; text-align: center;" align="center"><span style="font-size: 14pt; font-family: 'Trajan Pro', serif;">Crispy Southern Fried Quail</span></p>
<p style="line-height: normal; margin: 0px; padding: 0px 0px 8px; color: #9c6f9c; font-family: 'Helvetica Neue', Helvetica, Arial, sans-serif; font-size: 13px; letter-spacing: 0.5px; text-align: center;" align="center"><em><span style="font-family: Garamond, serif;">with Hearts of Celery, Honey Crisp Apples and a Homemade Jalapeño Jelly</span></em></p>
<p style="line-height: normal; margin: 0px; padding: 0px 0px 8px; color: #9c6f9c; font-family: 'Helvetica Neue', Helvetica, Arial, sans-serif; font-size: 13px; letter-spacing: 0.5px; text-align: center;" align="center"><span style="font-family: 'Lucida Calligraphy'; color: #996600;">Miner, Chardonnay, Napa Valley, 2013</span></p>
<p style="line-height: normal; margin: 0px; padding: 0px 0px 8px; color: #9c6f9c; font-family: 'Helvetica Neue', Helvetica, Arial, sans-serif; font-size: 13px; letter-spacing: 0.5px; text-align: center;" align="center"><span style="text-decoration: underline;"><span style="font-size: 12pt; font-family: Garamond, serif;">Third Course</span></span></p>
<p style="line-height: normal; margin: 0px; padding: 0px 0px 8px; color: #9c6f9c; font-family: 'Helvetica Neue', Helvetica, Arial, sans-serif; font-size: 13px; letter-spacing: 0.5px; text-align: center;" align="center"><span style="font-size: 14pt; font-family: 'Trajan Pro', serif;">Warm Laura Chanel Goat Cheese Tart</span></p>
<p style="line-height: normal; margin: 0px; padding: 0px 0px 8px; color: #9c6f9c; font-family: 'Helvetica Neue', Helvetica, Arial, sans-serif; font-size: 13px; letter-spacing: 0.5px; text-align: center;" align="center"><em><span style="font-family: Garamond, serif;">Crispy Phyllo Shell Filled with an Herb and Goat Cheese Fondue </span></em></p>
<p style="line-height: normal; margin: 0px; padding: 0px 0px 8px; color: #9c6f9c; font-family: 'Helvetica Neue', Helvetica, Arial, sans-serif; font-size: 13px; letter-spacing: 0.5px; text-align: center;" align="center"><em><span style="font-family: Garamond, serif;">Served with a Dried Apricot Chutney</span></em></p>
<p style="line-height: normal; margin: 0px; padding: 0px 0px 8px; color: #9c6f9c; font-family: 'Helvetica Neue', Helvetica, Arial, sans-serif; font-size: 13px; letter-spacing: 0.5px; text-align: center;" align="center"><span style="font-family: 'Lucida Calligraphy'; color: #996600;">Miner, Pinot Noir, Gary’s Vineyard, Monterey, 2012</span></p>
<p style="line-height: normal; margin: 0px; padding: 0px 0px 8px; color: #9c6f9c; font-family: 'Helvetica Neue', Helvetica, Arial, sans-serif; font-size: 13px; letter-spacing: 0.5px; text-align: center;" align="center"><span style="text-decoration: underline;"><span style="font-size: 12pt; font-family: Garamond, serif;">Fourth Course</span></span></p>
<p style="line-height: normal; margin: 0px; padding: 0px 0px 8px; color: #9c6f9c; font-family: 'Helvetica Neue', Helvetica, Arial, sans-serif; font-size: 13px; letter-spacing: 0.5px; text-align: center;" align="center"><span style="font-size: 14pt; font-family: 'Trajan Pro', serif;">Braised Prime Short Ribs and Wild Mushroom Risotto</span></p>
<p style="line-height: normal; margin: 0px; padding: 0px 0px 8px; color: #9c6f9c; font-family: 'Helvetica Neue', Helvetica, Arial, sans-serif; font-size: 13px; letter-spacing: 0.5px; text-align: center;" align="center"><em><span style="font-family: Garamond, serif;">with Baby Carrots, Fresh Horseradish and Finished in a Reduction of Pan Jus</span></em></p>
<p style="line-height: normal; margin: 0px; padding: 0px 0px 8px; color: #9c6f9c; font-family: 'Helvetica Neue', Helvetica, Arial, sans-serif; font-size: 13px; letter-spacing: 0.5px; text-align: center;" align="center"><span style="font-family: 'Lucida Calligraphy'; color: #996600;">Miner, The Oracle, Napa Valley, 2010</span></p>
<p style="line-height: normal; margin: 0px; padding: 0px 0px 8px; color: #9c6f9c; font-family: 'Helvetica Neue', Helvetica, Arial, sans-serif; font-size: 13px; letter-spacing: 0.5px; text-align: center;" align="center"><span style="text-decoration: underline;"><span style="font-size: 12pt; font-family: Garamond, serif;">Fifth Course</span></span></p>
<p style="line-height: normal; margin: 0px; padding: 0px 0px 8px; color: #9c6f9c; font-family: 'Helvetica Neue', Helvetica, Arial, sans-serif; font-size: 13px; letter-spacing: 0.5px; text-align: center;" align="center"><span style="font-size: 14pt; font-family: 'Trajan Pro', serif;">Hazelnut Chocolate Caramel Delight</span></p>
<p style="line-height: normal; margin: 0px; padding: 0px 0px 8px; color: #9c6f9c; font-family: 'Helvetica Neue', Helvetica, Arial, sans-serif; font-size: 13px; letter-spacing: 0.5px; text-align: center;" align="center"><em><span style="font-family: Garamond, serif;">with Crushed Berries</span></em></p>
<p style="line-height: normal; margin: 0px; padding: 0px 0px 8px; color: #9c6f9c; font-family: 'Helvetica Neue', Helvetica, Arial, sans-serif; font-size: 13px; letter-spacing: 0.5px; text-align: center;" align="center"><span style="font-family: 'Lucida Calligraphy'; color: #996600;">Miner, Merlot, Stagecoach Vineyard, Napa Valley, 2011</span></p>
<p style="line-height: normal; margin: 0px; padding: 0px 0px 8px; color: #9c6f9c; font-family: 'Helvetica Neue', Helvetica, Arial, sans-serif; font-size: 13px; letter-spacing: 0.5px; text-align: center;" align="center"><span style="font-family: 'Lucida Calligraphy'; color: #996600;"> </span></p>
<p style="line-height: normal; margin: 0px; padding: 0px 0px 8px; color: #9c6f9c; font-family: 'Helvetica Neue', Helvetica, Arial, sans-serif; font-size: 13px; letter-spacing: 0.5px; text-align: center;" align="center"><span style="font-family: 'Lucida Calligraphy'; color: #996600;">$85++ per person</span></p>
<p style="line-height: normal; margin: 0px; padding: 0px 0px 8px; color: #9c6f9c; font-family: 'Helvetica Neue', Helvetica, Arial, sans-serif; font-size: 13px; letter-spacing: 0.5px; text-align: center;" align="center"><span style="color: #996600; font-family: 'Lucida Calligraphy';">Reservations are available from 5pm to 8pm</span></p>
<p style="line-height: normal; margin: 0px; padding: 0px 0px 8px; color: #9c6f9c; font-family: 'Helvetica Neue', Helvetica, Arial, sans-serif; font-size: 13px; letter-spacing: 0.5px; text-align: center;" align="center"><span style="color: #996600; font-family: 'Lucida Calligraphy';">Please call to reserve your table today (831) 649-7874</span></p>
LOCATION:Jacks Restaurant & Lounge  2 Portola Plaza  Monterey, CA 93940
END:VEVENT
END:VCALENDAR