BEGIN:VCALENDAR
VERSION:2.0
BEGIN:VEVENT
URL:http://www.signaturewines.com/wine-community/events/viewevent/526-vip-screaming-eagle-wine-tasting-event-prime-rib-dinner 
DTSTART:20151003T170000
DTEND:20151003T220000
SUMMARY:VIP Screaming Eagle Wine Tasting Event / Prime-Rib Dinner
DESCRIPTION:<p><strong>BUY YOUR TICKETS HERE: </strong><span style="line-height: 1.3em;">http://www.eventbrite.com/e/vip-screaming-eagle-wine-tasting-event-prime-rib-dinner-tickets-18659160050?aff=es2</span></p>
<p style="line-height: 18px; margin: 0px; padding: 0px 0px 10px; color: #666666; font-size: 13px; letter-spacing: 0.5px; font-family: Arial, sans-serif;"><span style="text-decoration: underline;">Event date: October 3, 2015</span></p>
<p style="line-height: 18px; margin: 0px; padding: 0px 0px 10px; color: #666666; font-size: 13px; letter-spacing: 0.5px; font-family: Arial, sans-serif;">Doors will open at 5 pm. Light appetizers will be served from 5-6 pm.</p>
<p style="line-height: 18px; margin: 0px; padding: 0px 0px 10px; color: #666666; font-size: 13px; letter-spacing: 0.5px; font-family: Arial, sans-serif;">At 6 pm, Screaming Eagle, one of the world's most coveted wines, is being poured as 1 oz. for each guest and dinner is served.</p>
<p style="line-height: 18px; margin: 0px; padding: 0px 0px 10px; color: #666666; font-size: 13px; letter-spacing: 0.5px; font-family: Arial, sans-serif;">Wine tasting of Cabernets and Champagnes from around the world continues throughout the evening from 6-8 pm. Dessert will be served at 7 pm. Featured wines will be available for sale following the conclusion of the event.</p>
<p style="line-height: 18px; margin: 0px; padding: 0px 0px 10px; color: #666666; font-size: 13px; letter-spacing: 0.5px; font-family: Arial, sans-serif;"><span style="text-decoration: underline;">Food Menu</span></p>
<p style="line-height: 18px; margin: 0px; padding: 0px 0px 10px; color: #666666; font-size: 13px; letter-spacing: 0.5px; font-family: Arial, sans-serif;">Tomato, smoked salmon, and basil pesto crostini (5-6 pm)</p>
<p style="line-height: 18px; margin: 0px; padding: 0px 0px 10px; color: #666666; font-size: 13px; letter-spacing: 0.5px; font-family: Arial, sans-serif;">18 hour slow-roasted prime rib au jus (6-7 pm)</p>
<p style="line-height: 18px; margin: 0px; padding: 0px 0px 10px; color: #666666; font-size: 13px; letter-spacing: 0.5px; font-family: Arial, sans-serif;">Pommes au gratin (6-7 pm)</p>
<p style="line-height: 18px; margin: 0px; padding: 0px 0px 10px; color: #666666; font-size: 13px; letter-spacing: 0.5px; font-family: Arial, sans-serif;">Roasted seasonal vegetable (6-7 pm)</p>
<p style="line-height: 18px; margin: 0px; padding: 0px 0px 10px; color: #666666; font-size: 13px; letter-spacing: 0.5px; font-family: Arial, sans-serif;">Cast iron skillet tarte tatin (7 pm)</p>
<p style="line-height: 18px; margin: 0px; padding: 0px 0px 10px; color: #666666; font-size: 13px; letter-spacing: 0.5px; font-family: Arial, sans-serif;">Rules</p>
<p style="line-height: 18px; margin: 0px; padding: 0px 0px 10px; color: #666666; font-size: 13px; letter-spacing: 0.5px; font-family: Arial, sans-serif;">Tickets are transferable. Please advise Underground Cellar of any dietary restrictions by emailing support@undergroundcellar.com. Ticket holders are responsible for transportation to and from Underground Cellar HQ in San Francisco, CA. Attendees must be age 21+ due to legal regulations, no exceptions. Alcohol will not be served to persons who appear to be overly intoxicated. Tickets are refundable until ticket sales end. Menu may change slightly due to availability of the freshest seasonal ingredients.</p>
<div style="color: #666666; font-size: 13px; letter-spacing: 0.5px; font-family: Arial, sans-serif; line-height: 18px;"> </div>
LOCATION:580 Howard Street  Penthouse  San Francisco, CA 94105
END:VEVENT
END:VCALENDAR