BEGIN:VCALENDAR
VERSION:2.0
BEGIN:VEVENT
URL:http://www.signaturewines.com/wine-community/events/viewevent/53-23rd-annual-holiday-gift-faire-saturday-sunday-3-4-10-11 
DTSTART:20111203T100000
DTEND:20111204T170000
SUMMARY:23rd Annual Holiday Gift Faire Saturday & Sunday, 3&4 - 10&11
DESCRIPTION:<p>Guglielmo Winery's  23d Annual Holiday Faire! This very popular event will take place  the first 2 weekends in December. Join us on December 3,4, 10 and 11 for  wine tasting, Italian Holiday food sampling, carolers and shopping in  our amazing gift shop, which is enlarged and transformed for your  holiday shopping pleasure. The gift shop will be open daily beginning  Monday, November 28, from 10:00am to 5:00pm, through December 24. Come  early for best selection!</p>
LOCATION:Emilio Guglielmo Winery 1480 East Main Avenue Morgan Hill, CA 95037
END:VEVENT
END:VCALENDAR