BEGIN:VCALENDAR
VERSION:2.0
BEGIN:VEVENT
URL:http://www.signaturewines.com/wine-community/events/viewevent/539-bargetto-winery-s-harvest-and-futures-celebration 
DTSTART:20151011T170000
DTEND:20151011T200000
SUMMARY:Bargetto Winery's Harvest and Futures Celebration
DESCRIPTION:<p><strong>BUY YOUR TICKETS HERE: </strong><span style="line-height: 1.3em;">http://shop.bargetto.com/harvest-and-futures-celebration-general-admission-p348.aspx</span></p>
<p><span style="font-family: 'Open Sans', sans-serif; font-size: 13px; line-height: normal; background-color: #f1ecce;">Join BARGETTO Winemaker, Olivia Teutschel, in our creekside courtyard for a vertical tasting of our various BARGETTO Merlots paired with cheeses, followed by an italian themed dinner and music by the Scott Cooper Trio. We will also be selling futures for the first time in BARGETTO history! Help us celebrate our 83rd harvest!!!</span></p>
LOCATION:3535 N Main St Soquel, CA 95073
END:VEVENT
END:VCALENDAR