BEGIN:VCALENDAR
VERSION:2.0
BEGIN:VEVENT
URL:http://www.signaturewines.com/wine-community/events/viewevent/540-st-francis-winery-vineyards-celebrates-15th-annual-blessing-of-the-animals 
DTSTART:20151004T140000
DTEND:20151004T170000
SUMMARY:St. Francis Winery & Vineyards Celebrates 15th Annual Blessing of the Animals  
DESCRIPTION:<p>This free event is open to the public and benefits the Sonoma Humane Society. St. Francis Winery encourages visitors to bring their pets – from dogs, to cats, to birds, to turtles – to the winery, to be blessed.</p>
<p>In addition to the formal blessing, the family-friendly event will also feature a raffle and silent auction, Winery Dog of the Year Contest, and a variety of pet friendly local businesses. Guests will also enjoy St. Francis’s award-winning wines by the glass available for purchase. All festivities will take place on the winery’s lawn overlooking the estate’s gardens and Wild Oak vineyards. Funds raised from wines by the glass sales, Winery Dog of the Year Contest and the charity raffle will benefit the Sonoma Humane Society. </p>
LOCATION:St. Francis Winery
END:VEVENT
END:VCALENDAR