BEGIN:VCALENDAR
VERSION:2.0
BEGIN:VEVENT
URL:http://www.signaturewines.com/wine-community/events/viewevent/543-sf-vintners-reserve-fall-2015 
DTSTART:20151114T173000
DTEND:20151114T213000
SUMMARY:SF Vintners Reserve - Fall 2015
DESCRIPTION:<p><strong>BUY YOUR TICKETS HERE: </strong><span style="line-height: 1.3em;">http://www.eventbrite.com/e/sf-vintners-reserve-fall-2015-tickets-18427247393?aff=es2</span></p>
<p style="margin: 0px 0px 0px 0.25in; padding: 0px 0px 8px; line-height: 18px; color: #343434; font-family: 'Helvetica Neue', Helvetica, Arial, sans-serif; font-size: 13px; letter-spacing: 0.5px;">Vintners Reserve will focus on top local wineries and boutique producers with wines priced at $50 and up, along with a selection of wines rated 90+ points. From Napa Valley, Sonoma County, Mendocino, Paso Robles, San Luis Obispo, Santa Barbara, Russian River Valley and other regional wineries plus imported wines from around the world. Vintners Reserve features wine of all styles including new releases, library collections and end-of-vintage selections, all available to order.   There will be a variety of <span style="font-weight: bold;">dinner options available for purchase</span>.</p>
<p style="margin: 0px 0px 0px 0.25in; padding: 0px 0px 8px; line-height: 18px; color: #343434; font-family: 'Helvetica Neue', Helvetica, Arial, sans-serif; font-size: 13px; letter-spacing: 0.5px;"><span style="font-weight: bold;"> </span></p>
<p style="margin: 0px 0px 0px 0.25in; padding: 0px 0px 8px; line-height: 18px; color: #343434; font-family: 'Helvetica Neue', Helvetica, Arial, sans-serif; font-size: 13px; letter-spacing: 0.5px;"><span style="font-weight: bold;">Cult Room Admission: </span><span style="font-weight: bold;"><span style="font-weight: normal;">5:30-9:30pm </span><br />Reserve Room Admission:</span> 6:00-9:30pm</p>
<p style="margin: 0px 0px 0px 0.25in; padding: 0px 0px 8px; line-height: 18px; color: #343434; font-family: 'Helvetica Neue', Helvetica, Arial, sans-serif; font-size: 13px; letter-spacing: 0.5px;"><span style="font-weight: bold;">Ticket price includes admission, tasting glass, and unlimited tasting</span><br /><span style="font-weight: bold;">Tasting ends promptly at 9:30pm</span></p>
<p style="margin: 0px 0px 0px 0.25in; padding: 0px 0px 8px; line-height: 18px; color: #343434; font-family: 'Helvetica Neue', Helvetica, Arial, sans-serif; font-size: 13px; letter-spacing: 0.5px;"><span style="font-weight: bold;"> </span></p>
<p style="margin: 0px 0px 0px 0.25in; padding: 0px 0px 8px; line-height: 18px; color: #343434; font-family: 'Helvetica Neue', Helvetica, Arial, sans-serif; font-size: 13px; letter-spacing: 0.5px;"><span style="font-weight: bold;">NO CHILDREN OR BABIES!<br />NO PETS!<br />21 AND OLDER ONLY!<br />NO REFUNDS!</span></p>
LOCATION:City View at The Metreon  135 4th Street  4th Floor  San Francisco, CA 94103
END:VEVENT
END:VCALENDAR