BEGIN:VCALENDAR
VERSION:2.0
BEGIN:VEVENT
URL:http://www.signaturewines.com/wine-community/events/viewevent/544-la-soiree 
DTSTART:20151120T060000
DTEND:20151121T010000
SUMMARY:La Soirée
DESCRIPTION:<p style="line-height: 1.4em; color: #333c41; font-family: Arial, Helvetica, sans-serif; font-size: 14px;"><strong>BUY YOUR TICKETS HERE: </strong><span style="color: #333333; font-family: Tahoma, Helvetica, Arial, sans-serif; font-size: 12px; line-height: 1.3em;">http://www.lasoiree.org/register-now.html</span></p>
<p style="line-height: 1.4em; color: #333c41; font-family: Arial, Helvetica, sans-serif; font-size: 14px;">During the 34<sup>th </sup>fundraiser of the French-American Chamber of Commerce:</p>
<p style="line-height: 1.4em; color: #333c41; font-family: Arial, Helvetica, sans-serif; font-size: 14px;">- Discover new flavors at our exhibitors’ food and wine booths</p>
<p style="line-height: 1.4em; color: #333c41; font-family: Arial, Helvetica, sans-serif; font-size: 14px;">- Savor a fancy atmosphere with dedicated chefs and prestige wines in the VIP Gold lounge - <em>FACCSF members only</em></p>
<p style="line-height: 1.4em; color: #333c41; font-family: Arial, Helvetica, sans-serif; font-size: 14px;"><em>- </em>Experience the magic of the sumptuous VIP Platinum seated dinner</p>
<p style="line-height: 1.4em; color: #333c41; font-family: Arial, Helvetica, sans-serif; font-size: 14px;"><strong>Timeline:</strong></p>
<ul style="padding-left: 20px; line-height: 1.4em; color: #333c41; font-family: Arial, Helvetica, sans-serif; font-size: 14px;">
<li>6:00 pm - VIP soft opening</li>
<li>7:00 pm - Grand opening</li>
<li>7:30 pm - VIP seated dinner</li>
<li>10:00 pm - Dance party</li>
<li>1:00 am - End of La Soirée </li>
<li></li>
</ul>
LOCATION:511 Harrison St, San Francisco, CA 94105
END:VEVENT
END:VCALENDAR