BEGIN:VCALENDAR
VERSION:2.0
BEGIN:VEVENT
URL:http://www.signaturewines.com/wine-community/events/viewevent/545-4th-annual-wine-tasting-fall-fundraiser-for-the-table-of-plenty 
DTSTART:20151114T170000
DTEND:20151114T200000
SUMMARY:4th Annual WINE TASTING Fall Fundraiser for the TABLE of PLENTY
DESCRIPTION:<p><strong>BUY YOUR TICKETS HERE: </strong><span style="line-height: 1.3em;">http://www.eventbrite.com/e/4th-annual-wine-tasting-fall-fundraiser-for-the-table-of-plenty-tickets-18969259566?aff=es2</span></p>
<p style="margin: 0px; padding: 0px 0px 8px; line-height: normal; color: #362e2c; font-family: 'Helvetica Neue', Helvetica, Arial, sans-serif; font-size: 13px; letter-spacing: 0.5px; text-align: center;">Please join us for our<span style="font-weight: bold;"> 4th Annual WINE TASTING Fall Fundraiser</span>benefiting the<span style="font-weight: bold;"> TABLE of PLENTY</span> <span style="font-weight: bold;">(TOP)</span><em>, a weekly supper for </em>struggling families, our elders, and the homeless in Half Moon Bay.<br /><br />   <span style="font-weight: bold;"><span style="color: #993366;">EVENT CONTACT:</span>  Debbe Kennedy</span> <br />at olpwinetasting@gmail.com or  650.728.0909<br /><br /></p>
<p style="margin: 0px; padding: 0px 0px 8px; line-height: normal; color: #362e2c; font-family: 'Helvetica Neue', Helvetica, Arial, sans-serif; font-size: 13px; letter-spacing: 0.5px;"><span style="font-weight: bold;">Join us for a fun-filled evening benefiting the TABLE of PLENTY!</span><br />Purchase your <em>Wine Tasting Passport</em> for <span style="font-weight: bold;">$25</span> and take our 4th annual journey around the world of wines. Choose three samples from over 25 wines from Southern and Northern California, Down Under, Spain/Portugal, Italy, Southern and Northern France, Germany and Austria. Purchase additional samples before or at the event. <br /><br />Also make a DONATION anytime in support of TABLE of PLENTY throughout the year. All proceeds go directly to producing our weekly sit-down, beautifully served, suppers in a restaurant-like setting for struggling families, our elders, and the homeless on the coastside.<br /><br /><span>The TABLE of PLENTY (TOP) was founded in 2012 by Fr. Charlie Fermeglia in partnership with Clyde Beffa Jr.  Learn more about our story in <em>"VIEW from the TOP"</em> (published in Leader to Leader, Spring 2015) at this link:  <a href="http://bit.ly/1NWbaR5" target="_blank" title="VIEW from the TOP by Fr. Charlie Fermeglia, Sr. Jeanette Braun, and Debbe Kennedy" rel="nofollow" style="color: #8d0000;">http://bit.ly/1NWbaR5</a></span></p>
LOCATION:Senior Coastsiders          925 Main Street, Banquet Hall, Half Moon Bay, CA 94019
END:VEVENT
END:VCALENDAR