BEGIN:VCALENDAR
VERSION:2.0
BEGIN:VEVENT
URL:http://www.signaturewines.com/wine-community/events/viewevent/547-sonoma-tastemakers-petaluma-pie-company 
DTSTART:20151107T130000
DTEND:20151107T150000
SUMMARY:Sonoma Tastemakers: Petaluma Pie Company
DESCRIPTION:<p>St. Francis Winery & Vineyards continues the 2015 Sonoma Tastemakers series this November with Petaluma Pie Company. Each month, St. Francis hosts a different Sonoma partner in its beautiful Mission-style Tasting Room to share artisan products and stories—and educate visitors on the art of pairing wine and food. Featured artisan wines are paired with the products to complete a unique tasting experience. The events are scheduled from 1-3 p.m. and are free to the public.</p>
<p>Petaluma Pie Company is a farm-to-table bakery cafe specializing in sweet and savory pies made with wholesome, local and organic ingredients. The company offers a variety of tempting dishes, from classic apple pies and comforting chicken pot pies to more exotic options like curried cauliflower and chickpea or banana cream. For more information, visit http://www.petalumapiecompany.com/ </p>
LOCATION:St. Francis Winery
END:VEVENT
END:VCALENDAR