BEGIN:VCALENDAR
VERSION:2.0
BEGIN:VEVENT
URL:http://www.signaturewines.com/wine-community/events/viewevent/550-bubblyfest-by-the-sea-2016 
DTSTART:20161008T130000
DTEND:20161008T170000
SUMMARY:BUBBLYFEST By The Sea 2016
DESCRIPTION:<p>GET YOUR DISCOUNTED GENERAL ADMISSION TICKETS HERE!!!  NORMALLY $75 - YOUR SPECIAL PRICE THROUGH SIGNATURE WINES.COM of $50!</p><p>https://www.eventbrite.com/e/bubblyfest-by-the-sea-2016-gen-admission-to-grand-tasting-tickets-28172273027</p><p>Join over 60 Sparkling Wineries from all over the world at the only dedicated Sparkling Wine Festival in the United States at the gorgeous Avila Beach Golf Resort on the cliffs of the Pacific Ocean! Attendees will enjoy unlimited tastings, light appetizers, and engaging open seminars from Sabering Workshops to Champagne Cocktail talks.Book your stay in any Avila Beach Hotel, or SeaCrest OceanFront Hotel to receive 20% of your ticket.</p><p>General Admission ticket includes: Tastings, Light Appetizers, and Souvenir  Champagne Glass by Riedel</p><br />
LOCATION:Avila Beach Golf Resort 6464 Ana Bay Road Avila Beach, CA
END:VEVENT
END:VCALENDAR