BEGIN:VCALENDAR
VERSION:2.0
BEGIN:VEVENT
URL:http://www.signaturewines.com/wine-community/events/viewevent/552-tasting-under-the-redwoods 
DTSTART:20160814T000000
DTEND:20160814T170000
SUMMARY:TASTING UNDER THE REDWOODS
DESCRIPTION:<p>Don't Miss The 2nd Annual</p><p>"Tasting Under The Redwoods"</p><p>Sunday, August 14, 2016</p><p>12 noon ~ 5 p.m.</p><p>at Roaring Camp's Bret Harte Hall</p><p>Sold Out in 2015!</p><br /><p>Be sure to purchase your tickets well in advance for this second annual food and wine tasting featuring "bites" and "sips"  from local restaurants, wineries and breweries.  Enjoy live music by Soul Doubt, a silent auction, and more surprises!  </p><p>And parking is free!</p><p>Sold out last August, ticket sales this year are limited.  </p><p>All-inclusive tickets are $50.  </p><p>               If available, ticket price at the gate will be $75.                          </p><p>"Tasting Under The Redwoods" is a fundraiser for the nonprofit Valley Churches United Missions, which has provided supplemental food and disaster assistance to low-income households in the San Lorenzo Valley, Scotts Valley, and Bonny Doon for over 30 years.</p><p> "Tasting Under The Redwoods" is an over-21 event. </p><p>Media sponsor: KSCO/1080AM </p><p>Made possible by</p><p>Bay Federal Credit Union, Frank Murphy Team/Keller Williams & Mountain Feed & Farm Supply </p><br />
LOCATION:Roaring Camp Railroads  Bret Harte Hall  5401 Graham Hill Road  Felton, CA 95018
END:VEVENT
END:VCALENDAR