BEGIN:VCALENDAR
VERSION:2.0
BEGIN:VEVENT
URL:http://www.signaturewines.com/wine-community/events/viewevent/557-family-winemakers-of-california-san-francisco-tasting-great-wine-family-winemakers 
DTSTART:20160821T140000
DTEND:20160821T170000
SUMMARY:Family Winemakers of California San Francisco Tasting "Great Wine - Family Winemakers!"
DESCRIPTION:<p>This Sunday tasting is a one day event of award-winning small, family-owned wineries that create wines from many of the state's fabled wine growing regions.  Great Wine -- A Family Tradition!  Your ticket includes: Unlimited access to over 100 wineries from 50+ California appellations pouring over 35 varietals and over 500 different wines; commemorative wine glass; a great variety of cheeses, breads and crackers. Wine orders may be placed at this tasting, to be shipped from the winery. Many wineries will be offering special pricing on shipping and/or select wines.</p>
<p>Imagine the opportunity to taste over 500 wines offered by over 125 wineries.  You'll find upwards of 40 different varietals or blends from 60 of California's famed appellations.  If you can’t get to the wine country let them come to you! Whether you’re adding to your wine list, retail shelves or your private cellar, this is an opportunity to Taste California!</p><p>All Family Winemakers tastings focus on wineries that are small (generally under 5000 cases), have limited marketing outreach, and will be represented by family members.  There will be wineries at this event pouring with Family Winemakers for the first time.  It's an opportunity to expand your palate.  You can sample new releases from your classic favorites and from wineries just selling their first vintages.  CHECK out varietals you've never heard of or your best-loved Cabs and Chardonnays.  This well-respected tasting is a once-a-year opportunity to tour and taste California's wine country under one place.</p>
LOCATION:Cruise Terminal at Pier 27 The Embarcadero San Francisco, CA 94111
END:VEVENT
END:VCALENDAR