BEGIN:VCALENDAR
VERSION:2.0
BEGIN:VEVENT
URL:http://www.signaturewines.com/wine-community/events/viewevent/560-reggae-rhone-2016 
DTSTART:20160820T180000
DTEND:20160820T220000
SUMMARY:Reggae & Rhone 2016
DESCRIPTION:<p>This year's event will benefit two local charities: Gotkids (Giving Opportunities to Kids) and Lodi Parks, Recreation and Cultural center. The Loel Center will also be onsite with items up for Silent Auction, so come on 'mon- Pass around the other kind of green to support the kids!
</p><p>Come out to Michael David Winery on August 20th for a night of award winning wines, family style dinner, dancing, fireworks and more! On the main stage is living legend Mystic Bowie and the Talking Dreads.  Don’t be left out of this truly fun filled night as it tends to sell out fast.</p><p>**No one under 21 allowed**</p>
LOCATION:Michael David Winery - 4580 West Highway 12, Lodi, CA 95242
END:VEVENT
END:VCALENDAR