BEGIN:VCALENDAR
VERSION:2.0
BEGIN:VEVENT
URL:http://www.signaturewines.com/wine-community/events/viewevent/562-tastings-on-the-lawn-at-charles-krug-winery 
DTSTART:20160910T170000
DTEND:20160910T200000
SUMMARY:Tastings on the Lawn at Charles Krug Winery
DESCRIPTION:<p>On September 10, from 5 to 8 p.m., hear live music by The Americans, enjoy delicious new release wines and savor mouth-watering barbecue fare from Smoke Open Fire Restaurant. Join fellow wine and food enthusiasts to celebrate Charles Krug's biggest event of the year!
</p><p>• LIVE MUSIC BY THE AMERICANS
</p><p>• LIMITED, NEW RELEASE CHARLES KRUG WINES 
</p><p>• DELICIOUS BARBECUE FARE
</p><p>• GORGEOUS WINE COUNTRY SETTING 
</p><p>About Tastings on the Lawn:
</p><p>Cesare and Rosa Mondavi originated the Tastings on the Lawn in 1951 as a means to educate consumers about wine. 65 years later, Charles Krug Winery continues the tradition on the Great Lawn of the Charles Krug estate.
</p><p>Lawn chairs, picnic blankets and comfortable shoes are encouraged! 
</p><p>All attendees must be 21 years old or  above. Sorry, children and pets are not  allowed.
</p><p>For more details please visit: https://www.charleskrug.com/tol.cfm</p>
LOCATION:Charles Krug Winery - 2800 Main Street, Saint Helena, CA 94574
END:VEVENT
END:VCALENDAR