BEGIN:VCALENDAR
VERSION:2.0
BEGIN:VEVENT
URL:http://www.signaturewines.com/wine-community/events/viewevent/563-2016-san-mateo-wine-walk 
DTSTART:20160910T140000
DTEND:20160910T180000
SUMMARY:2016 San Mateo Wine Walk
DESCRIPTION:<p>2016 Wine Walk - Experience Downtown San Mateo!
</p><p>Enjoy an afternoon in Downtown San Mateo at this long-running event. Downtown merchants open their shops as Tasting Rooms so you can discover and experience Downtown San Mateo!
</p><p>Participating businesses partner with local restaurants or provide light bites to nibble while you taste.  Music, prizes and a lively atmosphere are all part of the experience at Wine Walk.  
</p><p>The Wine Walk ends just in time for dinner, so you can enjoy San Mateo's well-known restaurant scene and make the most of your time downtown.   
</p><p>Don't miss out on this popular event - get your tickets now!  
</p><p>Wine Walk goes on rain or shine. </p>
LOCATION:Downtown San Mateo - East 3rd Avenue @ San Mateo Drive  San Mateo, CA 94401
END:VEVENT
END:VCALENDAR