BEGIN:VCALENDAR
VERSION:2.0
BEGIN:VEVENT
URL:http://www.signaturewines.com/wine-community/events/viewevent/564-12th-annual-suisun-city-art-wine-and-chocolate-festival 
DTSTART:20161001T110000
DTEND:20161001T160000
SUMMARY:12th Annual Suisun City Art, Wine and Chocolate Festival
DESCRIPTION:<p>Celebrate the Suisun City waterfront by sampling top wines from local and regional wineries coupled with fine chocolate candy, cupcakes, fudge and other chocolate culinary delicacies. The Festival also features dozens of artisans displaying hand-crafted items, live music and fine Festival foods . Grab a friend and enjoy the ambiance of Suisun City’s historic waterfront, less than one hour from San Francisco.
</p><p>Suisun City is a San Francisco Bay Area gem with a touch of Cape Cod charm.  It is a great spot for a Bay Area day trip or overnight getaway. The waterfront promenade of Suisun City’s historic Waterfront District boasts beautiful views and serves as an ideal setting for the myriad of outdoor activities and dining choices. Kayak on the Suisun Bay, hike or bird watch in Suisun Marsh, explore the historic downtown district and choose from a variety of ethnic cuisine or waterfront dining.</p>
LOCATION:Waterfront District  Suisun City  Suisun City, CA 94585
END:VEVENT
END:VCALENDAR