BEGIN:VCALENDAR
VERSION:2.0
BEGIN:VEVENT
URL:http://www.signaturewines.com/wine-community/events/viewevent/565-15th-annual-wine-tasting-benefit-at-clos-lachance-winery 
DTSTART:20160916T180000
DTEND:20160916T210000
SUMMARY:15th Annual Wine Tasting Benefit at Clos LaChance Winery
DESCRIPTION:<p>Every fall, Healthier Kids Foundation hosts their Annual Wine Tasting Benefit. Join Healthier Kids Foundation on Friday, September 16 at Clos LaChance Winery, nestled in the beautiful Hayes Valley, for a night full of great friends, food, and wine!
</p><p>The event will be catered by Le Papillon and there will be a live and a silent auction. All proceeds from the event will go towards futhering Healither Kids Foundation's mission.</p><p>Healthier Kids Foundation believes it should not hurt to be a child. All children do not have access to the quality health care that they need to thrive. Without good health, it is difficult for them to be academically and socially successful, and for them to become productive adults.
</p><p>Our mission is to ensure that every child in our community receives the family-centered care that he or she needs to thrive.  There is no human endeavor that is outside the realm of health.  
</p><p>Invite your friends, wear your best, and get excited for this fun night!</p>
LOCATION:Clos LaChance Winery - 1 Hummingbird Lane, San Martin, CA 95046
END:VEVENT
END:VCALENDAR