BEGIN:VCALENDAR
VERSION:2.0
BEGIN:VEVENT
URL:http://www.signaturewines.com/wine-community/events/viewevent/567-sample-the-sierra-2016 
DTSTART:20160917T120000
DTEND:20160917T170000
SUMMARY:Sample The Sierra 2016
DESCRIPTION:<p>Sample The Sierra hosts a selection of the finest locally produced food, wine, beers, & spirits at this annual South Lake Tahoe Farm-To-Fork festival.</p><p>Sample the Sierra brings together local chefs and restaurants with neighboring growers and producers to create scrumptious samples for you to taste. Pair them with the appropriate craft beer or wine, shop for locally made crafts at the Festival Marketplace, dance to live entertainment, and catch our signature chefs competition, the Sierra Chefs Challenge. </p><p>Eat and drink the day away with live music, local chefs, ‘Go Local’ vendors, and Art. Don’t forget to catch our signature cooking contest, Sierra Chef Challenge.</p><p>A ticket includes entry into the event and the opportunity to sample all of the participating vendors.</p>
LOCATION:Bijou Community Park - South Lake Tahoe, CA 96150
END:VEVENT
END:VCALENDAR