BEGIN:VCALENDAR
VERSION:2.0
BEGIN:VEVENT
URL:http://www.signaturewines.com/wine-community/events/viewevent/568-gourmet-wine-cheese-faire-2016 
DTSTART:20160827T100000
DTEND:20160827T160000
SUMMARY:Gourmet Wine & Cheese Faire 2016
DESCRIPTION:<p>The Old Sugar Mill is proud to host the 7th Annual Regional Wine & Cheese Faire!
</p><p>Saturday & Sunday, August 27th & 28th - 2016 
</p><p>10am-4pm - Both Days!
</p><p>GENERAL ADMISSION: Good for Saturday OR Sunday: Includes a tasting glass (while supplies last) w/ tastings at 11 wineries, program and your Wine & Cheese Goodies!</p><p>Reserve Wines - Gourmet Foods - Barrel Tastings - Cheese & Wine Demo - Music & Entertainment! SactoMoFo culinary delights will be onsite for your pairing and dining pleasure! Be sure to keep checking HERE for updates on food vendors, cheese vendors, musicians & more - everything we love to enjoy with wine!
</p>
<p>This annual event is the "Ultimate Gourmet Wine & Food Experience” in the Sacramento Region. Thousands of attendees LOVE the featured cheesemakers & local producers of gourmet vinegars, oils, nuts, spreads, jams, jellies, honey & wine lifestyle furnishings all showcasing the best of our Region’s Cheese & Wine pairings & award winning local wines.  Purveyors of all things Gourmet: specialty chocolates, teas, spices, and other delicious locally made products will also be featured for tasting and available for purchase.
</p><p>Buy your perfect picnic lunch & wines - enjoy the beautiful outdoor patio and Summer Delta breezes! 
</p><p>The wineries at the Old Sugar Mill are a bridge to the rich agricultural heritage of the region, whose vineyards are staking their claim alongside the great wine growing regions of the world. Old Sugar Mill Wineries
.  <span style="font-size: 12px; line-height: 1.7em;">The Old Sugar Mill is located in the historic town of Clarksburg, fifteen minutes southwest of the Capitol building in Sacramento. The Old Sugar Mill is home to a unique community of Eleven California wineries and their signature wines: </span><span style="font-size: 12px; line-height: 1.7em;">Clarksburg Wine Company, Rendez-Vous Wines, Draconis Vineyards, Todd Taylor Wines, Carvalho Family Wines, DueVigne di Famiglia, Elevation Ten, Three Wine Company, Perry Creek Winery, Merlo Family Wines, Heringer Family Estates </span></p><p>Established in the rich Delta in 1934, the Old Sugar Mill has a historic and sentimental value for all who have their weddings, celebrations and gatherings at this beautiful setting.</p><p>*This is a 21 & Up Event - ID will be checked prior to admission 
</p><p>*NO DOGS - ONLY Service animals permitted for this event due to local health code ordinances/requirements</p><br />
LOCATION:The Old Sugar Mill Wineries  35265 Willow Ave  @Willow Point/South River Road  Clarksburg, CA 95612
END:VEVENT
END:VCALENDAR