BEGIN:VCALENDAR
VERSION:2.0
BEGIN:VEVENT
URL:http://www.signaturewines.com/wine-community/events/viewevent/569-twisted-roots-fundraiser-sip-wine-savor-small-bites-and-support-mearth 
DTSTART:20160825T173000
DTEND:20160825T190000
SUMMARY:Twisted Roots Fundraiser: Sip Wine, Savor Small Bites, and Support MEarth!
DESCRIPTION:<p>Admission includes two pours per person, a live cooking demo, and small bites + tastes (drink tickets at check in)! Additional glasses of wine can be purchased for $10.00 per glass.  
</p><p>Chef Brandon Miller will be doing a Paella live cooking demo and Chef Brandon will offer attendees small bites and tastes of paella.
</p><p>100% of the proceeds from this event will be donated to MEarth!
</p><p>We can't wait to see you there and we thank you for your support!</p><p>Space is limited to 50 attendees.</p><br /><p>MEarth (pronounced Me-Earth) is an environmental education nonprofit with roots in Carmel Valley, California, that is growing the next generation of environmental leaders through education, collaboration, partnerships and community action.
</p><p>We educate + inspire youth in Monterey County through environmental stewardship.
</p>
LOCATION:Twisted Roots Tasting Room - 12 Delfino Place , Carmel Valley, CA 93924
END:VEVENT
END:VCALENDAR