BEGIN:VCALENDAR
VERSION:2.0
BEGIN:VEVENT
URL:http://www.signaturewines.com/wine-community/events/viewevent/573-annual-harvest-bbq-at-rutherford-ranch-winery 
DTSTART:20160925T110000
DTEND:20160925T170000
SUMMARY:Annual Harvest BBQ at Rutherford Ranch Winery
DESCRIPTION:<p><strong>The Olive Grove will carry you from side to side with bluegrass and lawn games. Reserved seating is guaranteed for the first 50 guests to purchase tickets, additional seating may be available on a first come first served basis. Join us for the whole day or just come and relax while you enjoy some delicious BBQ!
</strong></p><p><strong> Option 1: Harvest BBQ
</strong></p><p><strong>Sip on your favorite Rutherford Ranch Wines and enjoy delicious BBQ!
</strong></p><p><strong> Option 2:  Wine Club Day! 
</strong></p><p><strong>Start the day off with an in-depth look at some of Rutherford Ranch Winery’s newest wines. This release tasting will feature 4 wines each paired with 2 culinary bites. After enjoying a release tasting, join in the fun at our Harvest BBQ! Sip on your favorite Rutherford Ranch Wines and enjoy delicious BBQ! </strong></p>
LOCATION:Rutherford Ranch Winery - 1680 Silverado Trail South, Saint Helena, CA 94574
END:VEVENT
END:VCALENDAR