BEGIN:VCALENDAR
VERSION:2.0
BEGIN:VEVENT
URL:http://www.signaturewines.com/wine-community/events/viewevent/574-landmark-vineyards-first-annual-lobster-feed 
DTSTART:20160930T180000
DTEND:20160930T210000
SUMMARY:Landmark Vineyards First Annual Lobster Feed
DESCRIPTION:<p><strong>Come enjoy single vineyard chardonnays with lobster in our beautiful courtyard!</strong></p><p><strong>More details to come!</strong></p><p><strong><br /></strong></p><p><strong>Landmark Vineyards is an ultra premium winery nestled in the heart of Sonoma Valley in Kenwood CA.  Founded in 1974.  www.landmarkwine.com</strong></p><p><strong><br /></strong></p><br />
LOCATION:Landmark Vineyards - 101 Adobe Canyon Road, Kenwood, CA 95452
END:VEVENT
END:VCALENDAR