BEGIN:VCALENDAR
VERSION:2.0
BEGIN:VEVENT
URL:http://www.signaturewines.com/wine-community/events/viewevent/575-landmark-harvest-festival 
DTSTART:20161001T110000
DTEND:20161001T140000
SUMMARY:Landmark Harvest Festival
DESCRIPTION:<p><strong>Celebrate the bounty of Harvest as you taste through current releases paired with the finest fare from local vendors. Join us for a special private tasting seminar that will highlight four major regions that we source from to create balanced wines that represent the "Best of California."</strong></p>
LOCATION:Landmark Vineyards - 101 Adobe Canyon Road, Kenwood, CA 95452
END:VEVENT
END:VCALENDAR