BEGIN:VCALENDAR
VERSION:2.0
BEGIN:VEVENT
URL:http://www.signaturewines.com/wine-community/events/viewevent/576-zinfandel-sale-harvest-bbq 
DTSTART:20161022T140000
DTEND:20161022T170000
SUMMARY:Zinfandel Sale & Harvest BBQ
DESCRIPTION:<p>Get your tickets here: </p><p>https://www.eventbrite.com/e/zinfandel-sale-harvest-bbq-by-st-francis-winery-tickets-27204575618</p><p>Spend the afternoon sipping some of our finest Zinfandels and feasting on mouthwatering barbecue as we celebrate harvest. Taste and purchase some of our limited Artisan Zinfandels before they are released and enjoy special pricing for one day only.</p><p>Get your tickets here: 
</p><p>https://www.eventbrite.com/e/zinfandel-sale-harvest-bbq-by-st-francis-winery-tickets-27204575618</p>
LOCATION:St Francis Winery & Vineyards - 100 Pythian Road, Santa Rosa, CA 95409
END:VEVENT
END:VCALENDAR