BEGIN:VCALENDAR
VERSION:2.0
BEGIN:VEVENT
URL:http://www.signaturewines.com/wine-community/events/viewevent/579-18th-annual-paso-robles-rotary-winemakers-cook-off-with-brews 
DTSTART:20160813T180000
DTEND:20160813T210000
SUMMARY:18th ANNUAL PASO ROBLES ROTARY WINEMAKERS' COOK-OFF with BREWS!
DESCRIPTION:<p><strong>August 13, 2016 * 6-9 PM
</strong></p><p><strong>FOOD, WINE, BREWS, LIVE MUSIC AND LOT'S OF FUN!
</strong></p><p><strong>Enjoy outstanding tastings from over 30+ wineries and breweries as they 
</strong><strong style="font-size: 12px; line-height: 1.7em;">pair gourmet food straight off the grill -  pairing food with their best offerings and hoping to win your votes, even if they have to bribe you for them</strong></p><p><strong> TICKETS ARE LIMITED AND EVENT IS ALWAYS A QUICK SELL OUT!</strong></p><p><strong>All proceeds benefit the Harlow Ford Scholarship Fund for local high school seniors.
</strong></p><p><strong>All Ticket Sales are Final - No Refunds</strong></p><p><strong>“The Paso Robles Winemakers’ Cookoff has become one of Paso Robles’ most-popular wine, food and music events,” says event co-chairperson Vicky Silva. “Participating wineries or breweries pair their grilled culinary creations with their finest wines or beers and compete for both Judges’ Choice and People’s Choice awards the day of the event. We are expecting tickets to sell out fast.”
</strong></p><p><strong>All proceeds from the event benefit local high school scholarships. Thanks to the event, The Paso Robles Rotary contributed $30,000 to Paso Robles High School scholarships last year. Since the event’s inception, over $400,000 in scholarships has been awarded to local high school students.</strong></p>
LOCATION:Paso Robles Event Center  2198 Riverside Ave.  Frontier Land  Paso Robles, CA 93446
END:VEVENT
END:VCALENDAR