BEGIN:VCALENDAR
VERSION:2.0
BEGIN:VEVENT
URL:http://www.signaturewines.com/wine-community/events/viewevent/58-roudon-smith-at-shadowbrook-s-winemaker-wednesday 
DTSTART:20120111T170000
DTEND:20120111T200000
SUMMARY:Roudon-Smith at Shadowbrook's Winemaker Wednesday
DESCRIPTION:<p>Please join us on Wednesday, January 11, 2012, at 5 until 8 p.m., as we join new SignatureWines.com Partner Winery Roudon-Smith, as we kick off the 2012 Shadowbrook Winemaker Wednesday series.</p>
<p>The Winemaker will showcase new releases, and a few older vintages as a part of their annual participation in this classic local wine tasting series.</p>
<p>As always, the Roudon-Smith wines being showcased that evening will be available for purchase by the bottle or by the glass at 50% off the normal menu price. The available flight of wine will be accompanied by a complementary appetizer.</p>
<p>Dinner reservations are recommended.</p>
LOCATION:Shadowbrook Restaurant, Capitola, CA
END:VEVENT
END:VCALENDAR