BEGIN:VCALENDAR
VERSION:2.0
BEGIN:VEVENT
URL:http://www.signaturewines.com/wine-community/events/viewevent/581-taste-destination-128-presents-wine-and-bbq-open-house 
DTSTART:20160813T110000
DTEND:20160813T160000
SUMMARY:Taste Destination 128 Presents: Wine and BBQ Open House
DESCRIPTION:<p>You are invited to join five family wineries: Alexander Valley Vineyards, Field Stone, Hanna, Medlock-Ames and White Oak Winery in the heart of the renowned Alexander Valley-Where Cab is King and the meat is cooked lean! </p>
LOCATION:Participating Taste Destination 128 Wineries - Alexander Valley Hwy 128, Healdsburg, CA 95448
END:VEVENT
END:VCALENDAR