BEGIN:VCALENDAR
VERSION:2.0
BEGIN:VEVENT
URL:http://www.signaturewines.com/wine-community/events/viewevent/583-wine-stroll-to-benefit-bill-wilson-center 
DTSTART:20160820T170000
DTEND:20160820T200000
SUMMARY:Wine Stroll to Benefit Bill Wilson Center
DESCRIPTION:<p><strong>Enjoy a summer evening with a wine stroll and silent auction to benefit Bill Wilson Center, a nonprofit organization that provides direct services to more than 3,500 children, youth, young adults and families in Santa Clara County through our various programs that focus on housing, education, counseling, and advocacy.</strong></p><p><strong>A portion of the proceeds will be donated back to Bill Wilson Center.
</strong></p><p><strong>Tickets are $35 and include wine tastings from Santa Cruz Mountain Wineries, exclusive discounts and a signature Santana Row wine glass. Silent Auction to benefit Bill Wilson Center will be displayed in Santana Row Park.</strong></p><p><strong>Wine and food tastings
</strong></p><p><strong>Exclusive discounts inside Santana Row shops and restaurants
</strong></p><p><strong>A Signature Santana Row wine glass
</strong></p><p><strong>*Must be 21 years or older to attend.</strong></p>
LOCATION:Santana Row, San Jose, CA 95128
END:VEVENT
END:VCALENDAR