BEGIN:VCALENDAR
VERSION:2.0
BEGIN:VEVENT
URL:http://www.signaturewines.com/wine-community/events/viewevent/585-safeway-open-2016 
DTSTART:20161012T070000
DTEND:20161016T170000
SUMMARY:Safeway Open 2016
DESCRIPTION:<p><strong style="font-size: 12px; line-height: 1.7em;">GOLF - The Safeway Open is the first event of the 2016-2017 PGA TOUR FedExCup schedule, October 12-16, 2016, and will host many of the top PGA TOUR players in the world.  See PHIL MICKELSON and the best of the PGA TOUR when it returns to Silverado Resort and Spa in Napa, California! 
 </strong></p><p><strong>Admission to the following on-course venues is also included in the cost of each ticket (more details at SafewayOpen.com)
</strong></p><p><strong>SAFEWAY FOOD & WINE PAVILION
</strong></p><p><strong>Over 27,000 square feet of Food and Wine! Enjoy lunch in this giant air conditioned tent, or take your meal outside to one of two viewing decks to watch golf and soak up the sun. This venue will feature the Safeway Culinary Experience, Starbucks and world-renowned chefs Thomas Keller, Masaharu Morimoto and Charlie Palmer all with no cover charge! Pair your meal with a glass of wine, a tasting flight or a beverage from the 360-degree sports bar!
</strong></p><p><strong>BEER FORE BIRDIES by MICHELOB ULTRA
</strong></p><p><strong>It’s happy hour on the golf course! Located on the par-5 16th green, Beer for Birdies features discounted beer every time a player makes birdie or eagle on that hole… all day…every day. Cheers!
</strong></p><p><strong>SPIRITS LOUNGE
</strong></p><p><strong>In the mood for a specialty cocktail? Watch your favorite players from the 17th hole greenside lounge and enjoy unique concoctions featuring over 10 different spirits brands.
</strong></p><p><strong>THE BREW LOFT
</strong></p><p><strong>We brought the brewery to the golf course! Choose from more than a dozen beers on tap while you sit greenside on the exciting par-3 11th hole.
</strong></p><p><strong>FOOD - Visit the SAFEWAY FOOD & WINE PAVILION featuring gourmet food and world-renowned chefs including THOMAS KELLER, MASAHARU MORIMOTO, CHARLIE PALMER, the Safeway Culinary Experience, and Starbucks. Other food options include Ca’momi Pizza, Compadres Rio Grille, Silverado Burger Dogs, Kara’s Cupcakes and Three Twins Ice Cream.
</strong></p><p><strong>BEER, WINE and SPIRITS - Thirsty? Buy a glass or enjoy a tasting flight from 60+ premium beer, wine, and spirit brands! See the list at SafewayOpen.com
</strong></p><p><strong>MUSIC - Just Announced: LIVE MUSIC AFTER GOLF – Admission is included with your golf ticket.
</strong></p><p><strong>X AMBASSADORS – Thursday, October 13
</strong></p><p><strong>CHARLES KELLEY – Friday, October 14
</strong></p><p><strong>THIRD EYE BLIND – Saturday, October 15
</strong></p><p><strong>(listen to each band at www.safewayopen.com/fanexperience)
</strong></p><p><strong>15 and Under Free Admission - Free admission for kids 15 and under when accompanied by a paid adult.
</strong></p><p><strong>Tournament proceeds benefit the Safeway Foundation and local charities.
</strong></p><p><strong>NO RE-ENTRY | NO RAIN CHECK PRIVILEGES | NO REFUNDS OR EXCHANGES</strong></p>
LOCATION:Silverado Resort and Spa  1600 Atlas Peak Road  Napa, CA 94558
END:VEVENT
END:VCALENDAR