BEGIN:VCALENDAR
VERSION:2.0
BEGIN:VEVENT
URL:http://www.signaturewines.com/wine-community/events/viewevent/588-2016-legends-of-wine-presented-by-cadillac 
DTSTART:20160916T180000
DTEND:20160916T210000
SUMMARY:2016 Legends of Wine presented by Cadillac
DESCRIPTION:<p><strong>Wine-lovers will have the unique opportunity to sample and discover more about some of the region’s most celebrated varietals, as selected by two of Sacramento’s internationally recognized culinary powerhouses – Darrell Corti and David Berkley. Set against the backdrop of California’s majestic State Capitol, guests will sip a wide array of award-winning wines paired and presented with artisan cheeses and more local delights.</strong></p><p><b>Participating Wineries</b></p><p><strong>Andis Wines
</strong></p><p><strong>Barrell Racer
</strong></p><p><strong>Berryessa Gap Vineyards
</strong></p><p><strong>Boeger Winery
</strong></p><p><strong>Bogle Vineyards
</strong></p><p><strong>Cante ao Vinho
</strong></p><p><strong>Clarksburg Wine Co.
</strong></p><p><strong>Cordi Winery
</strong></p><p><strong>Dancing Coyote Wines
</strong></p><p><strong>David Girard Vineyards
</strong></p><p><strong>Feist Winery
</strong></p><p><strong>Fields Family Wines
</strong></p><p><strong>Grant-Marie Winery
</strong></p><p><strong>Jeff Runquist Wines
</strong></p><p><strong>LangeTwins Family Winery
</strong></p><p><strong>Legendre Cellars
</strong></p><p><strong>Lone Acre Wine
</strong></p><p><strong>Matchbook Wines
</strong></p><p><strong>Michael David Winery
</strong></p><p><strong>New Clairvaux Vineyards
</strong></p><p><strong>Putah Creek Winery
</strong></p><p><strong>Renaissance
</strong></p><p><strong>Rendez-Vous Winery
</strong></p><p><strong>Revolution Wines
</strong></p><p><strong>Scott Harvey Wines
</strong></p><p><strong>Séka Hills Wines
</strong></p><p><strong>Senders Wines
</strong></p><p><strong>Sierra Vista Vineyard & Winery
</strong></p><p><strong>Six Hands Winery
</strong></p><p><strong>Sobon Estate/Shenandoah Vineyards
</strong></p><p><strong>Spoto Wines
</strong></p><p><strong>Terra d'Oro Winery
</strong></p><p><strong>Terre Rouge & Easton Wines
</strong></p><p><strong>Uvaggio Wines
</strong></p><p><strong>Vino Noceto Winery
</strong></p><p><strong>Westwood Family Cellars
</strong></p><p><strong><br /></strong></p><p><strong>This event is for those age 21 and over</strong></p>
LOCATION:California State Capital West Steps 1300 10th Street, Sacramento, CA 95814
END:VEVENT
END:VCALENDAR