BEGIN:VCALENDAR
VERSION:2.0
BEGIN:VEVENT
URL:http://www.signaturewines.com/wine-community/events/viewevent/59-fireside-fridays 
DTSTART:20111223T170000
DTEND:20111223T183000
SUMMARY:Fireside Fridays
DESCRIPTION:<p>This coming Friday 12/23/2011, wine tasting from 5:00 pm to 6:30 pm.  Featuring summit to sea wineries.  Sample a flight of 5 wines with cheeses and nibbles.  Only $15.00 per person.</p>
LOCATION:210 E. Main Street Lo Gatos, Ca. 95030
END:VEVENT
END:VCALENDAR