BEGIN:VCALENDAR
VERSION:2.0
BEGIN:VEVENT
URL:http://www.signaturewines.com/wine-community/events/viewevent/590-september-wine-walk-downtown-benicia 
DTSTART:20160924T130000
DTEND:20160924T170000
SUMMARY:September Wine Walk - Downtown Benicia
DESCRIPTION:<p><strong>Benicia Main Street celebrates the fall season with a Wine Walk in Downtown Benicia. Twenty-two downtown businesses will pour a different wine at their location, providing an enjoyable outing to “sip, walk, and shop” with friends.
</strong></p><p><strong>Tickets are $30 advance for a single ticket and $55 for a pair of tickets. Day of the event price increases to $35 - no price break for pair of tickets. Designated Driver ticket provides snacks at participating locations for $10. Ticket price includes up to 15 tastes and one (1) complimentary Benicia Main Street wine glass per person. Participants must be age 21 and over. Check-in starts at 12:30pm at Benicia Main Street, 90 First Street. Wine glass, map of tasting locations, and wristband will be provided per ticket holder at check-in.
</strong></p><p><strong>Each ticket holder MUST be present at check-in. Rain or shine event; no refunds.</strong></p>
LOCATION:Downtown Benicia  90 First Street  Benicia, CA 94510
END:VEVENT
END:VCALENDAR