BEGIN:VCALENDAR
VERSION:2.0
BEGIN:VEVENT
URL:http://www.signaturewines.com/wine-community/events/viewevent/60-walk-with-the-winemkaer 
DTSTART:20120107T110000
DTEND:20120107T140000
SUMMARY:Walk with the Winemkaer
DESCRIPTION:<p>Ever wonder what's going on in the vineyard in the dead of winter - plenty - that's what! Join winemaker/winegrower Bill Cooper as he takes a walk in their estate vineyard. This is a unique opportunity to learn about the mid-winter vineyard winter experience, and to learn about organic  and sustainable farming. As a bonus, the group will finish up in the tasting room to enjoy the latest Cooper-Garrod releases. To make reservations go to www.cgv.com/reservations - Cheers!</p>
LOCATION:Cooper-Garrod Estate Vineyards
END:VEVENT
END:VCALENDAR