BEGIN:VCALENDAR
VERSION:2.0
BEGIN:VEVENT
URL:http://www.signaturewines.com/wine-community/events/viewevent/61-passport-day-santa-cruz-mountain-winegrowers-association 
DTSTART:20120121T110000
DTEND:20120121T170000
SUMMARY:Passport Day - Santa Cruz Mountain Winegrowers Association
DESCRIPTION:<p>Join in on the ever-popular SCMWA Winter Passport Day. Passports are $40 each and are available through www.scmwa.com, or can be purchased the day of the event at any participating winery or restaurant. Please note that most restaurants close the Passport event at 4 p.m.</p>
LOCATION:Santa Cruz Mountains
END:VEVENT
END:VCALENDAR