BEGIN:VCALENDAR
VERSION:2.0
BEGIN:VEVENT
URL:http://www.signaturewines.com/wine-community/events/viewevent/616-st-francis-winery-s-7th-annual-zinfandel-harvest-bbq 
DTSTART:20161022T140000
DTEND:20161022T170000
SUMMARY:St. Francis Winery's 7th Annual Zinfandel & Harvest BBQ
DESCRIPTION:<p>Spend the afternoon sipping some of our finest Zinfandels and feasting on mouthwatering barbecue as we celebrate harvest. Taste and purchase some of our limited 2013 Artisan Zinfandels before they are released and enjoy special pricing for one day only.</p>
LOCATION:St. Francis Winery & Vineyards, 100 Pythian Road, Santa Rosa, CA 95409
END:VEVENT
END:VCALENDAR