BEGIN:VCALENDAR
VERSION:2.0
BEGIN:VEVENT
URL:http://www.signaturewines.com/wine-community/events/viewevent/617-uncorked-sf-winter-wine-fest 
DTSTART:20161105T130000
DTEND:20161105T210000
SUMMARY:Uncorked:SF Winter Wine Fest
DESCRIPTION:<p><strong>Enjoy over 100 wines, Champagne bar, International wine selection, Local favorite wines, Artisanal food vendors, custom photo booth, DJ and stunning views overlooking the city while sipping and savoring with friends. 
</strong></p><p><strong>This event is Saturday November 5th. There are two sessions to choose from. The first session has a VIP admission ($70) at 1pm which includes an extra hour to taste, shorter lines and special pours from some of the wineries. General admission ($60) is at 2pm and this session edns at 5pm. The second session is all general admission ($60) from 6-9pm. Both admission prices include all your wine tastings with food sold separately. 
</strong></p><p><strong>You must be 21 or over to enter the event. </strong></p>
LOCATION:City View at Metreon 135 4th St #4000 San Francisco, CA 94103
END:VEVENT
END:VCALENDAR