BEGIN:VCALENDAR
VERSION:2.0
BEGIN:VEVENT
URL:http://www.signaturewines.com/wine-community/events/viewevent/618-spain-s-great-match-wine-food-2016-san-francisco 
DTSTART:20161115T180000
DTEND:20161115T203000
SUMMARY:Spain's Great Match: Wine & Food 2016 - San Francisco
DESCRIPTION:<p><strong>Wines from Spain is pleased to host Spain's Great Match event for wine novices and connoisseurs alike, to discover Spain's wine and food. Join us at the City View at Metreon to experience the diversity of Spain.
</strong></p><p><strong>From mountainous terrain to salty shores, Spain produces an array of quality wines.  Taste over 200 world-class Spanish wines from one of the top wine producing countries in the world, paired with tapas created by San Francisco's top Spanish restaurants.  
</strong></p><p><strong>General Admission: $80 - 6:00-8:30pm
</strong></p><p><strong>Early Bird Ticket: $65 - 6:00-8:30pm*
</strong></p><p><strong>*Early Bird tickets end October 28, 2016.
</strong></p><p><strong>Connect with us on Social. Use #SpainsGreatMatch for the latest event updates and to participate in giveaways up to and during the big day!
</strong></p><p><strong>Facebook, Twitter, Instagram
</strong></p><p><strong>For more information about Spanish wine visit: www.winesfromspainusa.com
</strong></p><p><strong>Must be 21 and over to purchase tickets. There will be no ticket sales on-site and no refunds.  Event will go on rain or shine.
</strong></p><p><strong>A portion of ticket proceeds will benefit a local San Francisco charity.</strong></p>
LOCATION:City View at Metreon 135 4th St #4000 - 4th Floor San Francisco, California 94103
END:VEVENT
END:VCALENDAR