BEGIN:VCALENDAR
VERSION:2.0
BEGIN:VEVENT
URL:http://www.signaturewines.com/wine-community/events/viewevent/619-1st-annual-wine-tasting-and-silent-auction-fundraiser 
DTSTART:20161112T150000
DTEND:20161112T180000
SUMMARY:1st Annual Wine Tasting and Silent Auction Fundraiser
DESCRIPTION:<p>Please Join Us for Our 1st Annual 
</p><p>Reginald Wickliff Scholarship Fundraiser and Silent Auction
</p><p>Saturday, November 12, 2016 | 3:00 pm to 6:00 pm
</p><p>HOSTED BY 
</p><p>Alpha Phi Alpha Fraternity, Inc.
</p><p>Omicron Theta Lambda Chapter</p>
LOCATION:Cerruti Cellars (Tasting Room) 100 Webster Street, Suite 100, Oakland, CA
END:VEVENT
END:VCALENDAR