BEGIN:VCALENDAR
VERSION:2.0
BEGIN:VEVENT
URL:http://www.signaturewines.com/wine-community/events/viewevent/62-josh-thurman-artist-reception-at-cuda-ridge-winery 
DTSTART:20120121T130000
DTEND:20120121T160000
SUMMARY:Josh Thurman Artist Reception at Cuda Ridge Winery
DESCRIPTION:<p>Josh Thurman's artwork will be on display and available for sale.  Josh  will be onsite to discuss his art.  Complementary tasting of 2 wines and  Smokey Jim's light appetizer's.</p>
LOCATION:5385 East Ave, Unit B Livermore, CA 94550
END:VEVENT
END:VCALENDAR