BEGIN:VCALENDAR
VERSION:2.0
BEGIN:VEVENT
URL:http://www.signaturewines.com/wine-community/events/viewevent/620-pinotfest-2016 
DTSTART:20161119T150000
DTEND:20161119T180000
SUMMARY:PinotFest 2016
DESCRIPTION:<p><strong>The extensive tasting of pinot noir from over 50 of Oregon and California’s best producers features sumptuous hors d’oeuvres to complement the wines and an opportunity to meet the winemakers.
</strong></p><p><strong>Participating Wineries: Alma Rosa, Au Bon Climat, Big Table Farm, Bonaccorsi, Byron, Calera, Charles Heintz, Chehalem, Cobb, Costa de Oro, Cristom, Domaine Drouhin, Drake, En Route, Ernest, Etude, Failla, Fiddlehead, Flowers, Foxen, Freeman, Gary Farrell, Gloria Ferrer, Handley, Hartford Family, Hendry, Hitching Post, Joseph Phelps, Keller Estate, Kendric, Kosta Browne, LaRue, Littorai, Lutum, Lynmar, Marimar Estate, Melville, Merry Edwards, Morgan, Paul Hobbs, Paul Lato, Peay, Radio Coteau, Reuling, Saintsbury, Siduri, Sinor LaVallee, Soter, Talisman, Talley, Tendril, Testarossa, Thomas Fogarty, Twomey, Wayfarer, Whitcraft, WillaKenzie, Williams Selyem</strong></p>
LOCATION:Farallon 450 Post Street 4th Floor San Francisco, CA 94102
END:VEVENT
END:VCALENDAR