BEGIN:VCALENDAR
VERSION:2.0
BEGIN:VEVENT
URL:http://www.signaturewines.com/wine-community/events/viewevent/621-russian-river-valley-single-vineyard-night-san-francisco-2016 
DTSTART:20161103T173000
DTEND:20161103T203000
SUMMARY:Russian River Valley Single Vineyard Night - San Francisco 2016
DESCRIPTION:<p><strong>Join The Guardsmen and the Russian River Valley Winegrowers for a stellar tasting experience of Russian River Valley Single Vineyard wines on Thursday, November 3rd at the General's Residence at Fort Mason. Winemakers and winegrowers will be pouring small-lot, single vineyard wines and guests will enjoy delicious appetizers and opportunities for bidding on some amazing silent and live auction items!
</strong></p><p><strong>The VIP Experience - A limited number of VIP Ticket are available. Enter early and receive exclusive tastings of rare, limited release and tasting room only wines. 
</strong></p><p><strong>Silent and Live Auctions - We're pulling together some exclusive Russian River Valley experiences for our silent and live auctions. Updated list of auction lots will be added soon, so be sure to check back!
</strong></p><p><strong>NEW THIS YEAR! The RRVW has partnered with The Guardsmen. Since 1947 The Guardsmen has been helping youth with the resources they need to thrive.
</strong></p><p><strong>Participating wineries include:
</strong></p><p><strong>Balletto Vineyards
</strong></p><p><strong>Benovia Winery
</strong></p><p><strong>The Calling Wines
</strong></p><p><strong>Camlow Cellars
</strong></p><p><strong>Char Vale Winery
</strong></p><p><strong>Christopher Creek Winery
</strong></p><p><strong>Davis Bynum
</strong></p><p><strong>Davis Family Wines
</strong></p><p><strong>DRNK Wines
</strong></p><p><strong>Dutton-Goldfield Winery
</strong></p><p><strong>Elliott Family Cellars
</strong></p><p><strong>Friedeman Wines
</strong></p><p><strong>Gamba Vineyards & Winery
</strong></p><p><strong>Hartford Family Winery
</strong></p><p><strong>Kanzler Family Vineyards
</strong></p><p><strong>K Squared Cellars
</strong></p><p><strong>La Crema
</strong></p><p><strong>Landmark Vineyards
</strong></p><p><strong>Lauterbach Cellars
</strong></p><p><strong>MacRostie Winery & Vineyards
</strong></p><p><strong>Martin Ray Winery
</strong></p><p><strong>Matrix Winery
</strong></p><p><strong>Parmeson WInes
</strong></p><p><strong>Ramey Wne Cellars
</strong></p><p><strong>Russian River Vineyards
</strong></p><p><strong>Sonoma-Cutrer
</strong></p><p><strong>Square Peg
</strong></p><p><strong>St. Rose Winery
</strong></p><p><strong>Y. Rousseau
</strong></p><p><br /></p><p><strong>21 & Over Only - All Sales Final - No Refunds</strong></p>
LOCATION:General's Residence, Fort Mason 1 Fort Mason San Francisco, CA 94109
END:VEVENT
END:VCALENDAR