BEGIN:VCALENDAR
VERSION:2.0
BEGIN:VEVENT
URL:http://www.signaturewines.com/wine-community/events/viewevent/625-st-francis-winery-s-annual-ode-to-crab-winery-dinner 
DTSTART:20161216T183000
DTEND:20161216T213000
SUMMARY:St. Francis Winery's Annual Ode to Crab Winery Dinner
DESCRIPTION:<p><strong>Join us as Executive Chef Bryan Jones celebrates the start of the Northern California Crab season with a menu featuring all things crab. The night will begin with a wine reception and continue in our Dining Room where you will enjoy a mouth-watering crustacean centric dinner. Each of the four courses will be individually paired with hand-selected St. Francis wine creating an unforgettable evening. Reserve your seat now!</strong></p>
LOCATION:St Francis Winery & Vineyards 100 Pythian Road Santa Rosa, CA 95409
END:VEVENT
END:VCALENDAR