BEGIN:VCALENDAR
VERSION:2.0
BEGIN:VEVENT
URL:http://www.signaturewines.com/wine-community/events/viewevent/632-russian-river-valley-single-vineyard-night-sacramento-november-2016 
DTSTART:20161110T183000
DTEND:20161110T203000
SUMMARY:Russian River Valley Single Vineyard Night - Sacramento November 2016
DESCRIPTION:<p><strong>Get your discounted tickets here!!!</strong></p><p><strong> https://www.eventbrite.com/e/sale-russian-river-valley-single-vineyard-night-sacramento-tickets-28950404439</strong></p><p><strong>Join the Russian River Valley Winegrowers and the Sacramento Chapter of the 20-30 Club for a stellar tasting experience of Russian River Valley Single Vineyard wines on Thursday, November 10th at the Library Galleria in Sacramento. Winemakers and winegrowers will be pouring small-lot, single vineyard wines and guests will enjoy delicious appetizers and opportunities for bidding on some amazing silent and live auction items!
</strong></p><p><strong>The VIP Experience - A limited number of VIP Ticket are available. Enter early and receive exclusive tastings of rare, limited release and tasting room only wines. VIP ENTRANCE IS 5:30 p.m., GENERAL ADMISSION IS 6:30 pm.
</strong></p><p><strong>Silent and Live Auctions - We're pulling together some exclusive Russian River Valley experiences for our silent and live auctions. Updated list of auction lots will be added soon, so be sure to check back!
</strong></p><p><strong>The RRVW will again partner with Active 20-30 Club of Greater Sacramento #1032, an organization that strives to improve the quality of life for the special needs of children in our communities. A percentage of proceeds will be donated to this important cause.
</strong></p><p><strong>Participating wineries:
</strong></p><p><strong>Bailarin Cellars
</strong></p><p><strong>Balletto Vineyards
</strong></p><p><strong>Bucher Wines
</strong></p><p><strong>The Calling
</strong></p><p><strong>Camlow Cellars
</strong></p><p><strong>Char Vale WInery
</strong></p><p><strong>Christopher Creek
</strong></p><p><strong>Davis Bynum
</strong></p><p><strong>DRNK
</strong></p><p><strong>Dutton-Goldfield
</strong></p><p><strong>Elliott Family Cellars
</strong></p><p><strong>Friedeman Wines
</strong></p><p><strong>Hartford Court
</strong></p><p><strong>Kanzler Family Vineyards
</strong></p><p><strong>La Crema
</strong></p><p><strong>Landmark Vineyards
</strong></p><p><strong>Lauterbach Cellars
</strong></p><p><strong>MacRostie Winery & Vyds
</strong></p><p><strong>Martin Ray Winery
</strong></p><p><strong>Parmeson Wines
</strong></p><p><strong>Russian River Vineyards
</strong></p><p><strong>Sonoma-Cutrer
</strong></p><p><strong>Square Peg
</strong></p><p><strong>St. Rose Winery
</strong></p><p><strong>21 & Over Only - All Sales Final - No Refunds</strong></p><p><strong><br /></strong></p><p><strong>Get your discounted tickets here!!!
</strong></p><p><strong> https://www.eventbrite.com/e/sale-russian-river-valley-single-vineyard-night-sacramento-tickets-28950404439</strong></p>
LOCATION:Tsakopolous Library Galleria 828 I Street Sacramento, CA 95814
END:VEVENT
END:VCALENDAR