BEGIN:VCALENDAR
VERSION:2.0
BEGIN:VEVENT
URL:http://www.signaturewines.com/wine-community/events/viewevent/637-4th-annual-celebration-of-mendocino-sparkling-wines 
DTSTART:20170401T120000
DTEND:20170401T160000
SUMMARY: 4th Annual Celebration of Mendocino Sparkling Wines
DESCRIPTION:<p><strong>On Saturday, April 1st from 12-4 pm, Mendocino County's premier Sparkling Wine producers will be coming together for a stellar wine and food event celebrating Mendocino County's renowned bubblies. This fun and casualolive oil and sparkling wine tasting at Terra Savia winery gathering will be taking place at Terra Savia winery in Hopland, set against the picturesque vineyards and hills of the Northern Russian River's Sanel Valley.  These crisp, delicious wines will be paired with local foods specially chosen to match the different styles of wines on hand. The North Coast climates of Mendocino County are known for producing wonderful Sparkling Wines so don't wait to get your tickets!  
</strong></p><p><strong>Advance tickets $65, $75 at the door. A limited number of tickets are available. 
</strong></p><p><strong>For more information please contact Terra Savia winery at 707-744-1114 or email info@terrasavia.com.
</strong></p><p><strong>List of participating wineries coming soon!
</strong></p><p><strong>Featured Pairings:
</strong></p><p><strong>-  Fresh oysters from Tomales Bay with a mignonette sauce
</strong></p><p><strong>-  Fresh paella </strong></p><p><strong><br /></strong></p><p><strong>Terra Sávia Winery
</strong></p><p><strong>Terra Sávia winery, in Hopland, Mendocino County, is a small, family-run winery that produces organic, estate-grown wines, including an award winning selection of Red varieties, Chardonay and Blanc de Blancs and Brut Rouge sparkling wines. </strong></p>
LOCATION: Terra Savia Winery  14160 Mountain House Rd  Hopland, CA 95449
END:VEVENT
END:VCALENDAR