BEGIN:VCALENDAR
VERSION:2.0
BEGIN:VEVENT
URL:http://www.signaturewines.com/wine-community/events/viewevent/64-fenestra-29th-annual-barrel-tasting 
DTSTART:20120218T120000
DTEND:20120220T170000
SUMMARY:Fenestra 29th Annual Barrel Tasting 
DESCRIPTION:<p>Get a taste of the future on this President’s Day weekend! Sample  unreleased wines right from the barrel while Winemaker, Brent Amos,  Assistant Winemaker, Meredith Miles, and Owner, Lanny Replogle share  interesting tidbits and facts on the wines as you taste. Event cost is  $10</p>
LOCATION:83 Vallecitos Road (Formerly CA Hwy 84)  Livermore, CA 94550
END:VEVENT
END:VCALENDAR